BEGIN:VCALENDAR
VERSION:2.0
PRODID:-//ChamberMaster//Event Calendar 2.0//EN
METHOD:PUBLISH
X-PUBLISHED-TTL:P3D
REFRESH-INTERVAL:P3D
CALSCALE:GREGORIAN
BEGIN:VEVENT
DTSTART:20260617T220000Z
DTEND:20260617T233000Z
X-MICROSOFT-CDO-ALLDAYEVENT:FALSE
SUMMARY:Fit With Fido @ LIFE House For Animals
DESCRIPTION:Come out to the LIFE House For Animals (14 Fido Ct\, Frankfort\, KY 40601) on Wednesday\, June 17th\, @ 6 PM ET to check out a dog for the evening. We welcome adults\, kids (with adult supervision)\, potential adopters - anyone - to come out to get some exercise for yourself and our canine guests. You can take a dog out for a walk around our facility\, or you can take a dog out to the park\, to Starbucks for a pup cup\, to Feeders Supply\, downtown Frankfort - the choice is yours! We ask that you bring the dog back by 7:30 PM ET. We will harness the dog for you and give you a bag of treats\, poop bags\, water bowl and water bottle\, and contact info for LIFE House For Animals. No pre-registration is necessary - just show up! First come\, first serve.
X-ALT-DESC;FMTTYPE=text/html:Come out to the LIFE House For Animals (14 Fido Ct\, Frankfort\, KY 40601) on Wednesday\, June 17th\, @ 6 PM ET to check out a dog for the evening. We welcome adults\, kids (with adult supervision)\, potential adopters - anyone - to come out to get some exercise for yourself and our canine guests. You can take a dog out for a walk around our facility\, or you can take a dog out to the park\, to Starbucks for a pup cup\, to Feeders Supply\, downtown Frankfort - the choice is yours! We ask that you bring the dog back by 7:30 PM ET. We will harness the dog for you and give you a bag of treats\, poop bags\, water bowl and water bottle\, and contact info for LIFE House For Animals. No pre-registration is necessary - just show up! First come\, first serve.
LOCATION:LIFE House For Animals 14 Fido Ct Frankfort\, KY 40601
UID:e.1786.6587
SEQUENCE:3
DTSTAMP:20260423T122312Z
URL:https://members.frankfortky.info/events/details/fit-with-fido-life-house-for-animals-06-17-2026-6587
END:VEVENT

END:VCALENDAR
