BEGIN:VCALENDAR
VERSION:2.0
PRODID:-//ChamberMaster//Event Calendar 2.0//EN
METHOD:PUBLISH
X-PUBLISHED-TTL:P3D
REFRESH-INTERVAL:P3D
CALSCALE:GREGORIAN
BEGIN:VEVENT
DTSTART:20201121T003000Z
DTEND:20201121T013000Z
X-MICROSOFT-CDO-ALLDAYEVENT:FALSE
SUMMARY:Flight of Kentucky History: Virtual Tour and Bourbon Tasting
DESCRIPTION:Get a taste of Kentucky's bourbon history from the comfort of your home. Join us via Zoom* as Museum Program Coordinator Carol Easterly shares the fascinating stories behind selected bourbon artifacts from the KHS Collection. Capital Cellars owner\, Rachael Peake\, will guide us through the taste profiles of a curated flight of bourbons\, selected to accompany each artifact on the tour. Sip bourbon  taste history. Register now to reserve your flight! Must be of legal drinking age to participate.
X-ALT-DESC;FMTTYPE=text/html:Get a taste of Kentucky&rsquo\;s bourbon history from the comfort of your home. Join us via Zoom* as Museum Program Coordinator Carol Easterly shares the fascinating stories behind selected bourbon artifacts from the KHS Collection. Capital Cellars owner\, Rachael Peake\, will guide us through the taste profiles of a curated flight of bourbons\, selected to accompany each artifact on the tour. Sip bourbon&hellip\; taste history. Register now to reserve your flight! Must be of legal drinking age to participate.
LOCATION:Virtual Event - Zoom
UID:e.1786.3562
SEQUENCE:3
DTSTAMP:20260424T053416Z
URL:https://members.frankfortky.info/events/details/flight-of-kentucky-history-virtual-tour-and-bourbon-tasting-3562
END:VEVENT

END:VCALENDAR
