BEGIN:VCALENDAR
VERSION:2.0
PRODID:-//ChamberMaster//Event Calendar 2.0//EN
METHOD:PUBLISH
X-PUBLISHED-TTL:P3D
REFRESH-INTERVAL:P3D
CALSCALE:GREGORIAN
BEGIN:VEVENT
DTSTART:20190526T160000Z
DTEND:20190527T000000Z
X-MICROSOFT-CDO-ALLDAYEVENT:FALSE
SUMMARY:FrankFest
DESCRIPTION:Frank Fest will be held at Lakeview Park on Sunday\, May 26th from noon-8:00 p.m.   This free community event was designed to showcase the variety of amenities at Lakeview Park located at 112 Park Avenue\, including golf course\, splash pad\, dog park\, walking trails and more. Festivities begin at noon with the Franklin County ROTC Cadets presenting color guard and a flag retirement ceremony. Bring blankets\, chairs and coolers for a full afternoon of musical entertainment on the grounds surrounding the horse ring. Featured bands include the Blue Crawdads from 12:15-1:15\; New Town from 2:00-3:15\; Bootsie and Funkabilly from 4:00-5:15\; and The New Orleans Suspects from 6:00-7:30.  \n\n\n\nWell behaved dogs on leashes are welcome at the event and Feeders Supply will provide supplies and a cooling pool for animals. Josephine Sculpture Park will host interactive arts for children in the Farm Bureau Pavilion along with County staff issuing child ID cards from noon to 5:00 p.m. Canoe Kentucky will feature information about their Elkhorn Creek and Kentucky River adventures. Kids can also enjoy an obstacle course in the play area.  A "Skate Jam" will be held all afternoon in the newly renovated skate park and "Friends for Skateparks" and "Hearts and Handrails" will provide information about the sport. \n\n\n\nCapital City Classic Auto Club and The Frankfort Mustang Club are cohosting a car cruise starting at 12:30\, located in the parking lot at the Franklin County Career and Technical Center. The first 100 participants will receive dash plaques and all car cruise participants will enter at Franklin County High School. \n\n\n\nThe food and beverage offerings will feature Russ Kennedy\, Sweet T's food truck\, Taylor Belle Ice Cream\, local breweries - Goodwood\, Sig Luscher and West Sixth\, and Elk Creek Winery. The Frankfort Plant Board is providing two "buffalo" water stations for refilling water bottles. \n\n\n\nDowntown Frankfort Inc. would like to thank the Title Sponsor\, Traditional Bank\, as well as Franklin County Fiscal Court Magistrates and staff\, FRANK Magazine\, Feeders Supply\, Highbridge Spring Water\, Switzer Ruritan Club\, North Fork Baptist Church\, Lakeview Park staff\, Franklin County Sheriff and staff\, and the Frankfort/Franklin County Emergency Management team\, for supporting this event. \n\n\n\nFor more information about the event and volunteer opportunities\, contact Kelly Everman or Tracey Doyle at 502-223-2261 or info@downtownfrankfort.com.
X-ALT-DESC;FMTTYPE=text/html:Frank Fest will be held at Lakeview Park on Sunday\, May 26th from noon-8:00 p.m.&nbsp\; &nbsp\;This free community event was designed to showcase the variety of amenities at Lakeview Park located at 112 Park Avenue\, including golf course\, splash pad\, dog park\, walking trails and more. Festivities begin at noon with the Franklin County ROTC Cadets presenting color guard and a flag retirement ceremony. Bring blankets\, chairs and coolers for a full afternoon of musical entertainment on the grounds surrounding the horse ring. Featured bands include the Blue Crawdads from 12:15-1:15\; New Town from 2:00-3:15\; Bootsie and Funkabilly from 4:00-5:15\; and The New Orleans Suspects from 6:00-7:30.&nbsp\;&nbsp\;<br />\n<br />\nWell behaved dogs on leashes are welcome at the event and Feeders Supply will provide supplies and a cooling pool for animals. Josephine Sculpture Park will host interactive arts for children in the Farm Bureau Pavilion along with County staff issuing child ID cards from noon to 5:00 p.m. Canoe Kentucky will feature information about their Elkhorn Creek and Kentucky River adventures. Kids can also enjoy an obstacle course in the play area.&nbsp\; A &ldquo\;Skate Jam&rdquo\; will be held all afternoon in the newly renovated skate park and &ldquo\;Friends for Skateparks&rdquo\; and &ldquo\;Hearts and Handrails&rdquo\; will provide information about the sport.&nbsp\;<br />\n<br />\nCapital City Classic Auto Club and The Frankfort Mustang Club are cohosting a car cruise starting at 12:30\, located in the parking lot at the Franklin County Career and Technical Center. The first 100 participants will receive dash plaques and all car cruise participants will enter at Franklin County High School.&nbsp\;<br />\n<br />\nThe food and beverage offerings will feature Russ Kennedy\, Sweet T&rsquo\;s food truck\, Taylor Belle Ice Cream\, local breweries - Goodwood\, Sig Luscher and West Sixth\, and Elk Creek Winery. The Frankfort Plant Board is providing two &ldquo\;buffalo&rdquo\; water stations for refilling water bottles.&nbsp\;<br />\n<br />\nDowntown Frankfort Inc. would like to thank the Title Sponsor\, Traditional Bank\, as well as Franklin County Fiscal Court Magistrates and staff\, FRANK Magazine\, Feeders Supply\, Highbridge Spring Water\, Switzer Ruritan Club\, North Fork Baptist Church\, Lakeview Park staff\, Franklin County Sheriff and staff\, and the Frankfort/Franklin County Emergency Management team\, for supporting this event.&nbsp\;<br />\n<br />\nFor more information about the event and volunteer opport<span style="color: rgb(51\, 51\, 51)\; font-family: sans-serif\, Arial\, Verdana\, &quot\;Trebuchet MS&quot\;\; font-size: 13px\; background-color: rgb(255\, 255\, 255)\;">unities\, contact Kelly Everman or Tracey Doyle at 502-223-2261 or info@downtownfrankfort.com.</span>
LOCATION:Lakeview Park 112 Park Avenue Frankfort
UID:e.1786.3115
SEQUENCE:3
DTSTAMP:20260425T113848Z
URL:https://members.frankfortky.info/events/details/frankfest-3115
END:VEVENT

END:VCALENDAR
