BEGIN:VCALENDAR
VERSION:2.0
PRODID:-//ChamberMaster//Event Calendar 2.0//EN
METHOD:PUBLISH
X-PUBLISHED-TTL:P3D
REFRESH-INTERVAL:P3D
CALSCALE:GREGORIAN
BEGIN:VEVENT
DTSTART:20191029T210000Z
DTEND:20191029T230000Z
X-MICROSOFT-CDO-ALLDAYEVENT:FALSE
SUMMARY:Frankfort Area Chamber and Frankfort Tourism Commission Open House
DESCRIPTION:Please join the Frankfort Are Chamber and Frankfort Tourism Commission as they showcase their new location.
X-ALT-DESC;FMTTYPE=text/html:Please join the Frankfort Are Chamber and Frankfort Tourism Commission as they showcase their new location.
LOCATION:229 W Main Street Suite 102 Frankfort\, Kentucky 40601 300 St. Clair Street Suite 102 Frankfort\, Kentucky 40601
UID:e.1786.3166
SEQUENCE:3
DTSTAMP:20260425T034721Z
URL:https://members.frankfortky.info/events/details/frankfort-area-chamber-and-frankfort-tourism-commission-open-house-3166
END:VEVENT

END:VCALENDAR
