BEGIN:VCALENDAR
VERSION:2.0
PRODID:-//ChamberMaster//Event Calendar 2.0//EN
METHOD:PUBLISH
X-PUBLISHED-TTL:P3D
REFRESH-INTERVAL:P3D
CALSCALE:GREGORIAN
BEGIN:VEVENT
DTSTART:20200207T223000Z
DTEND:20200208T030000Z
X-MICROSOFT-CDO-ALLDAYEVENT:FALSE
SUMMARY:Frankfort Area Chamber Annual Dinner
DESCRIPTION:The Frankfort Area Chamber is excited to announce our new Presenting Sponsor Traditional Bank for the 2020 Annual Chamber Dinner and Auction.  Our 2020 event will be held on Friday\, February 7\, 2020.  Chamber staff\, along with our Chamber Board of Directors would love to have you be a part of this very popular regional event by sponsoring one of our Reserved Partner Tables or donating to our Live & Silent Auction.    \n\n \n\nThis year's event kicks off at 5:30pm with our ever popular VIP Spirits Tasting  \n\n\n\nDuring our event\,Frankfort Area Chamber members\, as well as community leaders\, will gather for an evening of networking with colleagues\, celebrating the previous years accomplishments\, and taking a look at upcoming priorities. The event also recognizes some of Frankfort Area Chamber's most committed volunteers and leaders\, and provide sponsors with excellent visibility to our largest business-oriented audience of the year. \n\n \n\nWe'll also present the President's Award\, Ambassador of the Year\, Business of the Year\, Humanitarian Award\, Paul Sullivan Award and Rising Star Business Award.  \n\n \n\nJoin us for an evening of Enchantment\, laughter\, relationship building\, excitement\, a little Spirits\, and a tad bit of business\, as we take a look back at 2019 and highlight our 2020 Chamber Program of Work.\n\n \n\nEvent Tickets for the 2020 Annual Dinner & Auction \n\n$60 per person  \n\n All ticket pricing includes sales tax \n\nRSVP to the Chamber office at 502.223.8261
X-ALT-DESC;FMTTYPE=text/html:<span style="font-size:10pt\;">&nbsp\;</span><span style="language:en-US\;"><span style="color:black\;"><span style="font-family:calibri\;">The Frankfort Area Chamber is excited to announce our new Presenting Sponsor </span></span></span><span style="font-weight:bold\;language:en-US\;"><span style="color:black\;"><span style="font-family:calibri\;">Traditional Bank </span></span></span><span style="language:en-US\;"><span style="color:black\;"><span style="font-family:calibri\;">for the 2020 Annual Chamber Dinner and Auction.&nbsp\; Our 2020 event will be held on </span></span></span><span style="font-style:italic\;font-weight:bold\;language:en-US\;"><span style="color:black\;"><span style="font-family:calibri\;">Friday\, February 7\, 2020.</span></span></span><span style="language:en-US\;"><span style="color:black\;"><span style="font-family:calibri\;">&nbsp\; Chamber staff\, along with our Chamber Board of Directors would love to have you be a part of this very popular regional event by sponsoring one of our Reserved Partner Tables or donating to our Live &amp\; Silent Auction.&nbsp\;&nbsp\;&nbsp\; </span></span></span><br />\n&nbsp\;<br />\n<span style="language:en-US\;"><span style="color:black\;"><span style="font-family:calibri\;">This year&rsquo\;s event kicks off at 5:30pm with our ever popular VIP Spirits Tasting&nbsp\; </span></span></span><br />\n<br />\n<span style="language:en-US\;"><span style="font-family:calibri\;">During our event\,Frankfort Area Chamber members\, as well as community leaders\, will gather for an evening of networking with colleagues\, celebrating the previous years accomplishments\, and taking a look at upcoming priorities. The event also recognizes some of Frankfort Area Chamber&rsquo\;s most committed volunteers and leaders\, and provide sponsors with excellent visibility to our largest business-oriented audience of the year. </span></span><br />\n&nbsp\;<br />\n<span style="language:en-US\;"><span style="font-family:calibri\;">We&rsquo\;ll also present the President&rsquo\;s Award\, Ambassador of the Year\, Business of the Year\, Humanitarian Award\, Paul Sullivan Award and Rising Star Business Award.&nbsp\; </span></span><br />\n&nbsp\;<br />\n<span style="language:en-US\;"><span style="color:black\;"><span style="font-family:calibri\;">Join us for an evening of Enchantment\, laughter\, relationship building\, excitement\, </span></span></span><span style="language:en-US\;"><span style="font-family:calibri\;">a little Spirits\, an</span></span><span style="language:en-US\;"><span style="font-family:calibri\;">d a tad bit of business\, as we take a look back at 2019 and highlight our 2020 Chamber Program of Work.</span></span><br />\n&nbsp\;<br />\n<span style="font-weight:bold\;language:en-US\;"><span style="font-family:calibri\;">Event Tickets for the 2020 Annual Dinner &amp\; Auction </span></span><br />\n<span style="font-weight:bold\;language:en-US\;"><span style="font-family:calibri\;">$60 per person&nbsp\;&nbsp\;</span></span><br />\n&nbsp\;<span style="font-style:italic\;font-weight:bold\;language:en-US\;"><span style="font-family:calibri\;">All ticket pricing includes sales tax </span></span><br />\n<span style="font-style:italic\;font-weight:bold\;language:en-US\;"><span style="font-family:calibri\;">RSVP to the Chamber office at 502.223.8261</span></span><br />\n&nbsp\;
LOCATION:Capital Plaza Hotel 405 Wilkinson Blvd. Frankfort KY 40601
UID:e.1786.2741
SEQUENCE:3
DTSTAMP:20260424T224125Z
URL:https://members.frankfortky.info/events/details/frankfort-area-chamber-annual-dinner-2741
END:VEVENT

END:VCALENDAR
