BEGIN:VCALENDAR
VERSION:2.0
PRODID:-//ChamberMaster//Event Calendar 2.0//EN
METHOD:PUBLISH
X-PUBLISHED-TTL:P3D
REFRESH-INTERVAL:P3D
CALSCALE:GREGORIAN
BEGIN:VEVENT
DTSTART:20200128T170000Z
DTEND:20200128T183000Z
X-MICROSOFT-CDO-ALLDAYEVENT:FALSE
SUMMARY:Frankfort Area Chamber Board Meeting
DESCRIPTION:Monthly Chamber Board of Directors Meeting
X-ALT-DESC;FMTTYPE=text/html:Monthly Chamber Board of Directors Meeting&nbsp\;&nbsp\;&nbsp\;&nbsp\;
LOCATION:Locations vary.
UID:e.1786.3196
SEQUENCE:3
DTSTAMP:20260425T001704Z
URL:https://members.frankfortky.info/events/details/frankfort-area-chamber-board-meeting-01-28-2020-3196
END:VEVENT

END:VCALENDAR
