BEGIN:VCALENDAR
VERSION:2.0
PRODID:-//ChamberMaster//Event Calendar 2.0//EN
METHOD:PUBLISH
X-PUBLISHED-TTL:P3D
REFRESH-INTERVAL:P3D
CALSCALE:GREGORIAN
BEGIN:VEVENT
DTSTART:20191212T170000Z
DTEND:20191212T183000Z
X-MICROSOFT-CDO-ALLDAYEVENT:FALSE
SUMMARY:Frankfort Area Chamber Board Meeting
DESCRIPTION:Chamber Board of Directors Annual Planning Retreat
X-ALT-DESC;FMTTYPE=text/html:Chamber Board of Directors Annual Planning Retreat&nbsp\;&nbsp\;&nbsp\;&nbsp\;
LOCATION:
UID:e.1786.3195
SEQUENCE:3
DTSTAMP:20260425T001536Z
URL:https://members.frankfortky.info/events/details/frankfort-area-chamber-board-meeting-3195
END:VEVENT

END:VCALENDAR
