BEGIN:VCALENDAR
VERSION:2.0
PRODID:-//ChamberMaster//Event Calendar 2.0//EN
METHOD:PUBLISH
X-PUBLISHED-TTL:P3D
REFRESH-INTERVAL:P3D
CALSCALE:GREGORIAN
BEGIN:VEVENT
DTSTART:20180728T183000Z
DTEND:20180729T000000Z
X-MICROSOFT-CDO-ALLDAYEVENT:FALSE
SUMMARY:Frankfort Float
DESCRIPTION:Relaxing paddle through scenic downtown Frankfort. Launch at Old Lawrenceburg Road Boat Ramp and paddle to Benson Creek ramp. Canoe rental is available at Canoe Kentucky or bring your own canoe or kayak. Shuttle service provided to take your vehicle to Benson Valley Boat Ramp before launch. Cookout around 5:30 pm on Mullholland Road\, bring a dish to share. Registration through link.
X-ALT-DESC;FMTTYPE=text/html:Relaxing paddle through scenic downtown Frankfort. Launch at Old Lawrenceburg Road Boat Ramp and paddle to Benson Creek ramp. Canoe rental is available at Canoe Kentucky or bring your own canoe or kayak. Shuttle service provided to take your vehicle to Benson Valley Boat Ramp before launch. Cookout around 5:30 pm on Mullholland Road\, bring a dish to share. Registration through link.
LOCATION:Saturday\, July 28 2:30 pm Launch at Lawrenceburg Road Boat Ramp
UID:e.1786.3006
SEQUENCE:3
DTSTAMP:20260426T040437Z
URL:https://members.frankfortky.info/events/details/frankfort-float-3006
END:VEVENT

END:VCALENDAR
