BEGIN:VCALENDAR
VERSION:2.0
PRODID:-//ChamberMaster//Event Calendar 2.0//EN
METHOD:PUBLISH
X-PUBLISHED-TTL:P3D
REFRESH-INTERVAL:P3D
CALSCALE:GREGORIAN
BEGIN:VEVENT
DTSTART:20190604T123000Z
DTEND:20190604T133000Z
X-MICROSOFT-CDO-ALLDAYEVENT:FALSE
SUMMARY:Frankfort IMPACT Education Committee Meeting
DESCRIPTION:Are you interested in building our future workforce?  If so\, then the Frankfort IMPACT program would be a great fit.  Working with students in our community to help build a well educated and knowledgeable workforce.
X-ALT-DESC;FMTTYPE=text/html:Are you interested in building our future workforce?&nbsp\; If so\, then the Frankfort IMPACT program would be a great fit.&nbsp\; Working with students in our community to help build a well educated and knowledgeable workforce.&nbsp\;
LOCATION:Franklin County School Board Office 190 Kings Daughters Drive Frankfort
UID:e.1786.3121
SEQUENCE:3
DTSTAMP:20260425T114658Z
URL:https://members.frankfortky.info/events/details/frankfort-impact-education-committee-meeting-3121
END:VEVENT

END:VCALENDAR
