BEGIN:VCALENDAR
VERSION:2.0
PRODID:-//ChamberMaster//Event Calendar 2.0//EN
METHOD:PUBLISH
X-PUBLISHED-TTL:P3D
REFRESH-INTERVAL:P3D
CALSCALE:GREGORIAN
BEGIN:VEVENT
DTSTART:20191024T120000Z
DTEND:20191024T183000Z
X-MICROSOFT-CDO-ALLDAYEVENT:FALSE
SUMMARY:Frankfort Impact Hands-On Experience
DESCRIPTION:The Frankfort IMPACT Education Committee has been working hard on on expanding our Frankfort Impact Education Program.  As part of this new program\, the Chamber will work host a hands-on Learning Expo at Lakeview Park this fall. \n\n During the Experience\, each career sector will host hands-on exhibits\, making them cool experiences and interactive.  Our goal is to have a designee from Area Businesses engaged in the IMPACT Planning Process to ensure we have representation from your Career Sector.  Our Career Sectors include:  Construction\, Healthcare\, Hospitality\, Professional Services\, Manufacturing\, Public Service\, Transportation\, Distribution\, and Logistics\,
X-ALT-DESC;FMTTYPE=text/html:<span style="font-family:calibri\,sans-serif\;"><span style="font-size:11.0pt\;">The Frankfort IMPACT Education Committee has been working hard on on expanding our Frankfort Impact Education Program.&nbsp\; As part of this new program\, the Chamber will work host a hands-on Learning Expo at Lakeview Park this fall.&nbsp\;</span></span><br />\n&nbsp\;<span style="font-size:11pt\;"><span style="font-family:calibri\,sans-serif\;">During the Experience\, each career sector will host hands-on exhibits\, making them cool experiences and interactive.&nbsp\; Our goal is to have a designee from </span></span><strong style="font-family:Calibri\, sans-serif\;font-size:11pt\;">Area Businesses </strong><span style="font-size:11pt\;"><span style="font-family:calibri\,sans-serif\;">engaged in the IMPACT Planning Process to ensure we have representation from your Career Sector.&nbsp\; </span></span><strong style="font-family:Calibri\, sans-serif\;font-size:11pt\;">Our Career Sectors include: </strong><span style="font-size:11pt\;"><span style="font-family:calibri\,sans-serif\;">&nbsp\;Construction\, Healthcare\, Hospitality\, Professional Services\, Manufacturing\, Public Service\, Transportation\, Distribution\, and Logistics\,</span></span><br />\n&nbsp\;
LOCATION:Lakeview Park 101 Park Blvd. Frankfort
UID:e.1786.2948
SEQUENCE:3
DTSTAMP:20260425T034022Z
URL:https://members.frankfortky.info/events/details/frankfort-impact-hands-on-experience-2948
END:VEVENT

END:VCALENDAR
