BEGIN:VCALENDAR
VERSION:2.0
PRODID:-//ChamberMaster//Event Calendar 2.0//EN
METHOD:PUBLISH
X-PUBLISHED-TTL:P3D
REFRESH-INTERVAL:P3D
CALSCALE:GREGORIAN
BEGIN:VEVENT
DTSTART;VALUE=DATE:20180710
DTEND;VALUE=DATE:20180712
TRANSP:TRANSPARENT
X-MICROSOFT-CDO-ALLDAYEVENT:TRUE
SUMMARY:Frankfort Impact - Teachers Academy
DESCRIPTION:Our Frankfort Impact Initiative has many components built into the program to offer a more defined career shadowing program\, educator externships\, and employability skills training as a way to inspire students and provide valuable learning opportunities that engage their personal interest and career goals.  Our program also looks to provide an avenue for business and education leaders to build partnerships and work together to improve employment outcomes for our community.\n\n \n\n            With a collaborative community approach\, the Frankfort Impact goes beyond what we could offer in the schools alone by bridging the gap between business needs to education/skills attainment.  The Teacher's Academy provides a unique opportunity for our educators to "engage and interact with business professionals in a workplace environment."  Our business professionals\, from various fields and background\, will present an overview of positions\, skills\, and education needed to advance in their field of expertise.  The emphasis during the site visits will be on skills applications in today's workplace. The goals of the Teacher Academy are:\n\n            * To increase awareness among educators of career opportunities and required skills of jobs in local businesses and industries\;\n\n            * To provide educators with "real world" examples of the application of academic content and soft skills taught in the schools\; and\n\n            * To expand collaborative relationships among school systems and the business community.\n\n We will host a Membership Luncheon on Wednesday\, July 11\, 2018 with Beth Davisson\, KY Workforce Center who will update us on the new Talent Pipeline Management program.
X-ALT-DESC;FMTTYPE=text/html:Our Frankfort Impact Initiative has many components built into the program to offer a more defined career shadowing program\, educator externships\, and employability skills training as a way to inspire students and provide valuable learning opportunities that engage their personal interest and career goals.&nbsp\; Our program also looks to provide an avenue for business and education leaders to build partnerships and work together to improve employment outcomes for our community.<br />\n&nbsp\;<br />\n&nbsp\;&nbsp\;&nbsp\;&nbsp\;&nbsp\;&nbsp\;&nbsp\;&nbsp\;&nbsp\;&nbsp\;&nbsp\; With a collaborative community approach\, the Frankfort Impact goes beyond what we could offer in the schools alone by bridging the gap between business needs to education/skills attainment.&nbsp\; The Teacher&#39\;s Academy provides a unique opportunity for our educators to &ldquo\;engage and interact with business professionals in a workplace environment.&quot\;&nbsp\; Our business professionals\, from various fields and background\, will present an overview of positions\, skills\, and education needed to advance in their field of expertise.&nbsp\; The emphasis during the site visits will be on skills applications in today&rsquo\;s workplace. The goals of the Teacher Academy are:<br />\n&nbsp\;&nbsp\;&nbsp\;&nbsp\;&nbsp\;&nbsp\;&nbsp\;&nbsp\;&nbsp\;&nbsp\;&nbsp\; * To increase awareness among educators of career opportunities and required skills of jobs in local businesses and industries\;<br />\n&nbsp\;&nbsp\;&nbsp\;&nbsp\;&nbsp\;&nbsp\;&nbsp\;&nbsp\;&nbsp\;&nbsp\;&nbsp\; * To provide educators with &ldquo\;real world&rdquo\; examples of the application of academic content and soft skills taught in the schools\; and<br />\n&nbsp\;&nbsp\;&nbsp\;&nbsp\;&nbsp\;&nbsp\;&nbsp\;&nbsp\;&nbsp\;&nbsp\;&nbsp\; * To expand collaborative relationships among school systems and the business community.<br />\n&nbsp\;We will host a Membership Luncheon on Wednesday\, July 11\, 2018 with Beth Davisson\, KY Workforce Center who will update us on the new Talent Pipeline Management program.&nbsp\;<br />\n&nbsp\;
LOCATION:Various location around Frankfort
UID:e.1786.2988
SEQUENCE:3
DTSTAMP:20260426T040829Z
URL:https://members.frankfortky.info/events/details/frankfort-impact-teachers-academy-2988
END:VEVENT

END:VCALENDAR
