BEGIN:VCALENDAR
VERSION:2.0
PRODID:-//ChamberMaster//Event Calendar 2.0//EN
METHOD:PUBLISH
X-PUBLISHED-TTL:P3D
REFRESH-INTERVAL:P3D
CALSCALE:GREGORIAN
BEGIN:VEVENT
DTSTART:20180721T150000Z
DTEND:20180722T020000Z
X-MICROSOFT-CDO-ALLDAYEVENT:FALSE
SUMMARY:Frankfort Tourism Presents - Conch Republic
DESCRIPTION:Frankfort/Franklin County Tourist Commissioner is proud to present Conch Republic on July 21.  For more information or ticket pricing please contact 502-875-8687 or visit: www.vistfrankfort.com
X-ALT-DESC;FMTTYPE=text/html:<span style="font-family:calibri\,sans-serif\;"><span style="font-size:11.0pt\;">Frankfort/Franklin County Tourist Commissioner is proud to present Conch Republic on July 21.&nbsp\; For more information or ticket pricing please contact 502-875-8687 or visit: www.vistfrankfort.com</span></span>
LOCATION:Ward Oates Amphitheater 520 West Main Street Frankfort
UID:e.1786.2983
SEQUENCE:3
DTSTAMP:20260426T041030Z
URL:https://members.frankfortky.info/events/details/frankfort-tourism-presents-conch-republic-2983
END:VEVENT

END:VCALENDAR
