BEGIN:VCALENDAR
VERSION:2.0
PRODID:-//ChamberMaster//Event Calendar 2.0//EN
METHOD:PUBLISH
X-PUBLISHED-TTL:P3D
REFRESH-INTERVAL:P3D
CALSCALE:GREGORIAN
BEGIN:VEVENT
DTSTART:20180714T140000Z
DTEND:20180714T220000Z
X-MICROSOFT-CDO-ALLDAYEVENT:FALSE
SUMMARY:FrankfortCon
DESCRIPTION:Join us at The FrankfortCon. It's a collectors mecca convention located in beautiful Capital City of Frankfort\, Kentucky. The FrankfortCon strives to be Kentucky's best and truest comic con featuring fandoms of multiple genres. As long-time fans of comic books\, toys\, pop-culture\,  wrestling\, gaming\, cosplay\, animation\, sci-fi and fantasy\, the promoter wanted to bring that style event to Kentucky.
X-ALT-DESC;FMTTYPE=text/html:<span style="font-family:arial\,sans-serif\;"><span style="font-size:9pt\;">Join us at&nbsp\;<strong>The FrankfortCon</strong>. It&rsquo\;s a collectors mecca convention located in beautiful Capital City of<strong>&nbsp\;Frankfort\, Kentucky.</strong>&nbsp\;The FrankfortCon strives to be Kentucky&rsquo\;s best and truest comic con featuring fandoms of multiple genres. As long-time fans of comic books\, toys\, pop-culture\,&nbsp\; wrestling\, gaming\, cosplay\, animation\, sci-fi and fantasy\, the promoter wanted to bring that style event to Kentucky.</span></span>
LOCATION:Capital Plaza Hotel 405 Wilkinson Blvd. Frankfort
UID:e.1786.2778
SEQUENCE:3
DTSTAMP:20260426T040345Z
URL:https://members.frankfortky.info/events/details/frankfortcon-2778
END:VEVENT

END:VCALENDAR
