BEGIN:VCALENDAR
VERSION:2.0
PRODID:-//ChamberMaster//Event Calendar 2.0//EN
METHOD:PUBLISH
X-PUBLISHED-TTL:P3D
REFRESH-INTERVAL:P3D
CALSCALE:GREGORIAN
BEGIN:VEVENT
DTSTART:20200204T133000Z
DTEND:20200205T043000Z
X-MICROSOFT-CDO-ALLDAYEVENT:FALSE
SUMMARY:Franklin County Day at the Capitol
DESCRIPTION:Franklin County Day at the Capitol will be on Tuesday\, February 4\, 2020 from 8:30 a.m. to 12:00 p.m. at the Capital Annex in Room 113.   We will kick-off our Day at the Capitol hearing from Kentucky  Senate President Robert Stivers\, II at 9:00 a.m.\, followed by Kentucky Speaker of the House David Osborne\, at 10:00 a.m.  This is a great opportunity to bring Frankfort and Franklin County's voice to  key leaders\, advocate for our 2020 Legislative Priorities and learn about issues facing the General Assembly during the 2020 Regular Session. \n\nPlease feel free to share this invitation with your key business leaders that may have an interest hearing from our guest speakers.  Also\, please contact the Chamber if you would like to participate in one-on-one meetings with Cabinet Secretaries in the Education & Workforce Development or Transportation Cabinets\, as this will be held in mid-late February and early March 2020.\n\nA light breakfast will be provided for all attendees. Seating is limited for this event\, so please RSVP at your earliest convenience.    You may register by contacting the Chamber office at 502-223-8261 or office@frankfortky.info.
X-ALT-DESC;FMTTYPE=text/html:<span style="font-weight:bold\;language:en-US\;"><span style="font-family:calibri\;"><span style="font-size:12.0pt\;">Franklin County Day at the Capitol</span></span></span><span style="language:en-US\;"><span style="font-family:calibri\;"><span style="font-size:12.0pt\;"> will be on </span></span></span><span style="font-weight:bold\;language:en-US\;"><span style="font-family:calibri\;"><span style="font-size:12.0pt\;">Tuesday\, February 4\, 2020</span></span></span><span style="language:en-US\;"><span style="font-family:calibri\;"><span style="font-size:12.0pt\;"> from </span></span></span><span style="font-weight:bold\;language:en-US\;"><span style="font-family:calibri\;"><span style="font-size:12.0pt\;">8:30 a.m. to 12:00 p.m.</span></span></span><span style="language:en-US\;"><span style="font-family:calibri\;"><span style="font-size:12.0pt\;"> at the </span></span></span><span style="font-weight:bold\;language:en-US\;"><span style="font-family:calibri\;"><span style="font-size:12.0pt\;">Capital Annex in Room 113.</span></span></span><span style="language:en-US\;"><span style="font-family:calibri\;"><span style="font-size:12.0pt\;">&nbsp\;&nbsp\; We will kick-off our Day at the Capitol hearing from Kentucky&nbsp\; Senate President Robert Stivers\, II at 9:00 a.m.\, followed by Kentucky Speaker of the House David&nbsp\;</span></span></span><span style="font-size:12pt\;">Osborne\, at 10:00 a.m.</span>&nbsp\; <span style="font-size:12pt\;">This is a great opportunity to bring Frankfort and Franklin County&rsquo\;s voice to</span>&nbsp\; <span style="font-size:12pt\;">key leaders\, advocate for our 2020 Legislative Priorities and learn about issues facing the General&nbsp\;</span><span style="font-size:12pt\;">Assembly during the 2020 Regular Session.&nbsp\;</span><br />\n<span style="font-size:12pt\;">Please feel free to share this invitation with your key business leaders that may have an interest&nbsp\;</span><span style="font-size:12pt\;">hearing from our guest speakers.</span>&nbsp\; <span style="font-size:12pt\;">Also\, please contact the Chamber if you would like to participate in one-on-one meetings with Cabinet Secretaries in the Education &amp\; Workforce Development or Transportation Cabinets\, as this will be held in mid-late February and early March 2020.</span><br />\n<span style="font-size:12pt\;">A light breakfast will be provided for all attendees. Seating is limited for this event\, so please RSVP at your earliest convenience.&nbsp\; &nbsp\; You may register by contacting the Chamber office at 502-223-8261 or office@frankfortky.info.&nbsp\;</span><br />\n&nbsp\;
LOCATION:Capital Annex Room 113 Frankfort
UID:e.1786.1178
SEQUENCE:3
DTSTAMP:20260424T205935Z
URL:https://members.frankfortky.info/events/details/franklin-county-day-at-the-capitol-1178
END:VEVENT

END:VCALENDAR
