BEGIN:VCALENDAR
VERSION:2.0
PRODID:-//ChamberMaster//Event Calendar 2.0//EN
METHOD:PUBLISH
X-PUBLISHED-TTL:P3D
REFRESH-INTERVAL:P3D
CALSCALE:GREGORIAN
BEGIN:VEVENT
DTSTART:20180908T123000Z
DTEND:20180908T140000Z
X-MICROSOFT-CDO-ALLDAYEVENT:FALSE
SUMMARY:Franklin County Humane Society Trails for Tails 5k
DESCRIPTION:The Franklin County Humane Society's 2nd Annual Trails for Tails 5k is scheduled for September 8\,2018 at 8:30 a.m. at Capitol View Park. Funds are being raised toward our new shelter.
X-ALT-DESC;FMTTYPE=text/html:The Franklin County Humane Society&#39\;s 2nd Annual Trails for Tails 5k is scheduled for September 8\,2018 at 8:30 a.m. at Capitol View Park. Funds are being raised toward our new shelter.
LOCATION:Capitol View Park Glenns Creek Rd. Frankfort\, KY
UID:e.1786.2937
SEQUENCE:3
DTSTAMP:20260426T010348Z
URL:https://members.frankfortky.info/events/details/franklin-county-humane-society-trails-for-tails-5k-09-08-2018-2937
END:VEVENT

END:VCALENDAR
