BEGIN:VCALENDAR
VERSION:2.0
PRODID:-//ChamberMaster//Event Calendar 2.0//EN
METHOD:PUBLISH
X-PUBLISHED-TTL:P3D
REFRESH-INTERVAL:P3D
CALSCALE:GREGORIAN
BEGIN:VEVENT
DTSTART:20180706T150000Z
DTEND:20180706T160000Z
X-MICROSOFT-CDO-ALLDAYEVENT:FALSE
SUMMARY:G. Gerrad's Jazz Restaurant & Lounge - Ribbon Cutting
DESCRIPTION:Join us for a ribbon cutting at G. Gerrad's Jazz Restaurant and Lounge and welcome them to the community and to the Chamber.
X-ALT-DESC;FMTTYPE=text/html:Join us for a ribbon cutting at G. Gerrad&#39\;s Jazz Restaurant and Lounge and welcome them to the community and to the Chamber.
LOCATION:G. Gerrad's Jazz Restaurant and Lounge 76 C. Michael Davenport Blvd.
UID:e.1786.3003
SEQUENCE:3
DTSTAMP:20260426T041148Z
URL:https://members.frankfortky.info/events/details/g-gerrad-s-jazz-restaurant-lounge-ribbon-cutting-3003
END:VEVENT

END:VCALENDAR
