BEGIN:VCALENDAR
VERSION:2.0
PRODID:-//ChamberMaster//Event Calendar 2.0//EN
METHOD:PUBLISH
X-PUBLISHED-TTL:P3D
REFRESH-INTERVAL:P3D
CALSCALE:GREGORIAN
BEGIN:VEVENT
DTSTART:20190405T230000Z
DTEND:20190406T010000Z
X-MICROSOFT-CDO-ALLDAYEVENT:FALSE
SUMMARY:GALA 2019
DESCRIPTION:2019 'GALA' presented by the Kentucky State Opera/Musical Theatre Workshop will occur on April 4-5\, 2019.  April 4 is 10:00 AM Matinee Performance for school-age children and the general public.  April 5 at 7:00 PM is the general public performance.  There will be a special "Meet and Greet" for our special guests\, sponsors and patrons on April 5\, 2019.  April 3\, 2019\, the Opera/Musical Theatre Workshop will do a segment on "Good Day Kentucky" at 9:00 AM on ABC 36.\n\n \n\nThis year's 'GALA' will feature beautiful costumes and scenery\, wonderful singers and excerpts from Opera and Musical Theatre!  Please mark your calendar and join us.  We invite you to enjoy our updated website:
X-ALT-DESC;FMTTYPE=text/html:<p><span style="font-family: Georgia\, serif\;">2019 &#39\;GALA&#39\; presented by the Kentucky State Opera/Musical Theatre Workshop will occur on April 4-5\, 2019.&nbsp\; April 4 is 10:00 AM Matinee Performance for school-age children and the general public.&nbsp\; April 5 at 7:00 PM is the general public performance.&nbsp\; There will be a special &quot\;Meet and Greet&quot\; for our special guests\, sponsors and patrons on April 5\, 2019.&nbsp\; April 3\, 2019\, the Opera/Musical Theatre Workshop will do a segment on &quot\;Good Day Kentucky&quot\; at 9:00 AM on ABC 36.</span><span style="font-family: Calibri\, sans-serif\;"><o:p></o:p></span></p>\n\n<p><span style="font-family: Calibri\, sans-serif\;">&nbsp\;</span></p>\n\n<p><span style="font-family: Georgia\, serif\;">This year&#39\;s &#39\;GALA&#39\; will feature beautiful costumes and scenery\, wonderful singers and excerpts from Opera and Musical Theatre!&nbsp\; Please mark your calendar and join us.&nbsp\; We invite you to enjoy our updated website:</span><span style="font-family: Calibri\, sans-serif\;"><o:p></o:p></span></p>\n\n<p>&nbsp\;</p>\n
LOCATION:Little Bradford Theater Kentucky State University 400 East Main Street
UID:e.1786.3082
SEQUENCE:3
DTSTAMP:20260425T145014Z
URL:https://members.frankfortky.info/events/details/gala-2019-3082
END:VEVENT

END:VCALENDAR
