BEGIN:VCALENDAR
VERSION:2.0
PRODID:-//ChamberMaster//Event Calendar 2.0//EN
METHOD:PUBLISH
X-PUBLISHED-TTL:P3D
REFRESH-INTERVAL:P3D
CALSCALE:GREGORIAN
BEGIN:VEVENT
DTSTART:20190226T210000Z
DTEND:20190302T190000Z
X-MICROSOFT-CDO-ALLDAYEVENT:FALSE
SUMMARY:GIANT Winter Book Sale
DESCRIPTION:Friends of the Paul Sawyier Public Library GIANT Winter Book Sale February 26 - March 2\, 2019 PSPL River Room 319 Wapping St\, Frankfort\, KY 40601 No book or media will be priced over $1! (no book lover can resist such a bargain!!!) Paperback books are 25 cents\, large paperbacks are 50 cents\, and hardback books are $1.00! The first day of the sale\, Tuesday is limited to Friends members\, including new friends who buy a membership at the door! The "Friends only" night is a very popular event! If you have never attended\, plan on stopping by to see what all the excitement is about! New annual memberships and renewals will be available at the Community Room entrance for just $5 for individuals\, $10 for families\, and $3.00 for seniors and students! The sale will be open to the general public all day\, Wednesday\, Thursday\, Friday\, and Saturday! Saturday is Bag/Box Day for everyone! Everything you can fit in a bag is just $2\, and everything you can fit in a box is just $5!!! There is no limit on the number of bags and boxes!!! It doesn't get any better than that\, unless\, of course\, the book you wanted was sold before Saturday! Sale days and hours: . . . . . Tuesday\, February 26\, 4:00 pm - 7:00 pm\, Members-only Preview Day . . . . . Wednesday\, February 27\, 10:00 am - 7:00 pm\, General Public . . . . . Thursday\, February 28\, 10:00 am - 7:00 pm\, General Public . . . . . Friday\, March 1\, 10:00 am - 5:00 pm\, General Public . . . . . Saturday\, March 2\, 10:00 am - 2:00 pm\, General Public\, Bag and Box Day So\, mark your calendar!!! We're looking forward to seeing you at the sale!
X-ALT-DESC;FMTTYPE=text/html:Friends of the Paul Sawyier Public Library GIANT Winter Book Sale February 26 - March 2\, 2019 PSPL River Room 319 Wapping St\, Frankfort\, KY 40601 No book or media will be priced over $1! (no book lover can resist such a bargain!!!) Paperback books are 25 cents\, large paperbacks are 50 cents\, and hardback books are $1.00! The first day of the sale\, Tuesday is limited to Friends members\, including new friends who buy a membership at the door! The &quot\;Friends only&quot\; night is a very popular event! If you have never attended\, plan on stopping by to see what all the excitement is about! New annual memberships and renewals will be available at the Community Room entrance for just $5 for individuals\, $10 for families\, and $3.00 for seniors and students! The sale will be open to the general public all day\, Wednesday\, Thursday\, Friday\, and Saturday! Saturday is Bag/Box Day for everyone! Everything you can fit in a bag is just $2\, and everything you can fit in a box is just $5!!! There is no limit on the number of bags and boxes!!! It doesn&#39\;t get any better than that\, unless\, of course\, the book you wanted was sold before Saturday! Sale days and hours: . . . . . Tuesday\, February 26\, 4:00 pm - 7:00 pm\, Members-only Preview Day . . . . . Wednesday\, February 27\, 10:00 am - 7:00 pm\, General Public . . . . . Thursday\, February 28\, 10:00 am - 7:00 pm\, General Public . . . . . Friday\, March 1\, 10:00 am - 5:00 pm\, General Public . . . . . Saturday\, March 2\, 10:00 am - 2:00 pm\, General Public\, Bag and Box Day So\, mark your calendar!!! We&#39\;re looking forward to seeing you at the sale!
LOCATION:Paul Sawyier Public Library River Room 319 Wapping St\, Frankfort\, KY 40601
UID:e.1786.3074
SEQUENCE:3
DTSTAMP:20260425T151755Z
URL:https://members.frankfortky.info/events/details/giant-winter-book-sale-02-26-2019-3074
END:VEVENT

END:VCALENDAR
