BEGIN:VCALENDAR
VERSION:2.0
PRODID:-//ChamberMaster//Event Calendar 2.0//EN
METHOD:PUBLISH
X-PUBLISHED-TTL:P3D
REFRESH-INTERVAL:P3D
CALSCALE:GREGORIAN
BEGIN:VEVENT
DTSTART:20191221T160000Z
DTEND:20191221T170000Z
X-MICROSOFT-CDO-ALLDAYEVENT:FALSE
SUMMARY:GIngerbread Train
DESCRIPTION:Calling all train engineers! Listen to stories about trains to imagine what it would be like to be a conductor in charge of a locomotive. Draw a design of a train and then build it as a gingerbread display to take home for the holidays. Next\, put your new knowledge to the test by visiting the History Center's model train exhibit to see how they operate. Best for ages 4-8 years\, but all are welcome. Instructor: Megan Sauter Cost: Free for Kentucky Historical Society or Paul Sawyier Public Library members by presenting your card at the welcome desk\; $5 per child + 1 adult for others. Registration recommended. Please call 502-564-1792 or email KHSeducation@ky.gov Payment is due the day of the workshop. Workshops begin at the front desk of the Thomas D. Clark Center for Kentucky History.
X-ALT-DESC;FMTTYPE=text/html:Calling all train engineers! Listen to stories about trains to imagine what it would be like to be a conductor in charge of a locomotive. Draw a design of a train and then build it as a gingerbread display to take home for the holidays. Next\, put your new knowledge to the test by visiting the History Center&rsquo\;s model train exhibit to see how they operate. Best for ages 4-8 years\, but all are welcome. Instructor: Megan Sauter Cost: Free for Kentucky Historical Society or Paul Sawyier Public Library members by presenting your card at the welcome desk\; $5 per child + 1 adult for others. Registration recommended. Please call 502-564-1792 or email KHSeducation@ky.gov Payment is due the day of the workshop. Workshops begin at the front desk of the Thomas D. Clark Center for Kentucky History.
LOCATION:Thomas D. Clark Center for Kentucky History 100 W Broadway St\, Frankfort
UID:e.1786.3192
SEQUENCE:3
DTSTAMP:20260425T000959Z
URL:https://members.frankfortky.info/events/details/gingerbread-train-3192
END:VEVENT

END:VCALENDAR
