BEGIN:VCALENDAR
VERSION:2.0
PRODID:-//ChamberMaster//Event Calendar 2.0//EN
METHOD:PUBLISH
X-PUBLISHED-TTL:P3D
REFRESH-INTERVAL:P3D
CALSCALE:GREGORIAN
BEGIN:VEVENT
DTSTART:20240913T120000Z
DTEND:20240913T220000Z
X-MICROSOFT-CDO-ALLDAYEVENT:FALSE
SUMMARY:Golf Scramble presented by WesBanco Bank
DESCRIPTION:Fall is right around the corner and that means that means it's almost time for our annual Frankfort Area Chamber Annual Golf Scramble sponsored by WesBanco Bank.  Gather your team of 4 or register individually for a fun day at Juniper Hill Golf Course on Friday\, September 13\, 2024 morning and afternoon tee times available. \n\n\n\nPutting contest\, door prizes\, goody bags\, and complimentary drink tickets with your entry fee. Mulligans and team throws available for purchase day of.
X-ALT-DESC;FMTTYPE=text/html:<span style="font-size:16px\;"><span style="font-family:arial\;"><span style="color: rgb(51\, 51\, 51)\; background-color: rgb(255\, 255\, 255)\;">Fall is right around the corner and that means that means it&#39\;s almost time for our annual Frankfort Area Chamber Annual Golf Scramble sponsored by WesBanco Bank.&nbsp\; Gather your team of 4 or register individually for a fun day at Juniper Hill Golf Course on Friday\, September 13\, 2024 morning and afternoon tee times available.&nbsp\;</span><br />\n<br />\nPutting contest\, door prizes\, goody bags\, and complimentary drink tickets with your entry fee. Mulligans and team throws available for purchase day of.&nbsp\;</span></span>
LOCATION:Juniper Hills Golf Course 800 Louisville Rd. Frankfort\, KY 40601
UID:e.1786.4536
SEQUENCE:3
DTSTAMP:20260419T150820Z
URL:https://members.frankfortky.info/events/details/golf-scramble-presented-by-wesbanco-bank-4536
END:VEVENT

END:VCALENDAR
