BEGIN:VCALENDAR
VERSION:2.0
PRODID:-//ChamberMaster//Event Calendar 2.0//EN
METHOD:PUBLISH
X-PUBLISHED-TTL:P3D
REFRESH-INTERVAL:P3D
CALSCALE:GREGORIAN
BEGIN:VEVENT
DTSTART:20191228T180000Z
DTEND:20191228T200000Z
X-MICROSOFT-CDO-ALLDAYEVENT:FALSE
SUMMARY:Grow\, Share\, and Prepare for Winter
DESCRIPTION:Sustainable winter meals were always a challenge for our ancestors. Learn which fruits and vegetables grow best in Kentucky and how to preserve them so you can enjoy them in the winter. You will learn techniques such as salting\, drying\, and pickling that were once used by early pioneers and still relevant today. Participants will taste the fruits of the previous season's labor and make a dish using one of the techniques. Last\, explore our research library to find heirloom recipes to take home. All ages welcome. Cost: $8 per person\; $5 for members. Price includes museum admission so feel free to explore our sites the rest of the day! Instructor: Sarah Jackson Registration required no later than three days before the class. Space is limited. Call 502-564-1792 or email KHSeducation@ky.gov Payment is due the day of the workshop. Workshops begin at the front desk of the Thomas D. Clark Center for Kentucky History.
X-ALT-DESC;FMTTYPE=text/html:Sustainable winter meals were always a challenge for our ancestors. Learn which fruits and vegetables grow best in Kentucky and how to preserve them so you can enjoy them in the winter. You will learn techniques such as salting\, drying\, and pickling that were once used by early pioneers and still relevant today. Participants will taste the fruits of the previous season&rsquo\;s labor and make a dish using one of the techniques. Last\, explore our research library to find heirloom recipes to take home. All ages welcome. Cost: $8 per person\; $5 for members. Price includes museum admission so feel free to explore our sites the rest of the day! Instructor: Sarah Jackson Registration required no later than three days before the class. Space is limited. Call 502-564-1792 or email KHSeducation@ky.gov Payment is due the day of the workshop. Workshops begin at the front desk of the Thomas D. Clark Center for Kentucky History.
LOCATION:Thomas D. Clark Center for Kentucky History 100 W Broadway St\, Frankfort
UID:e.1786.3193
SEQUENCE:3
DTSTAMP:20260425T015546Z
URL:https://members.frankfortky.info/events/details/grow-share-and-prepare-for-winter-3193
END:VEVENT

END:VCALENDAR
