BEGIN:VCALENDAR
VERSION:2.0
PRODID:-//ChamberMaster//Event Calendar 2.0//EN
METHOD:PUBLISH
X-PUBLISHED-TTL:P3D
REFRESH-INTERVAL:P3D
CALSCALE:GREGORIAN
BEGIN:VEVENT
DTSTART:20201031T140000Z
DTEND:20201031T150000Z
X-MICROSOFT-CDO-ALLDAYEVENT:FALSE
SUMMARY:Halloween Special Event: Crafting Victorian Hair Jewelry
DESCRIPTION:Prepare to be creeped out by strange stories from Kentucky's past. Did you know that people in the Victorian era made jewelry out of the hair from dearly departed friends and family members? We will create wearable objects inspired by the museum's unusual artifacts. Participants will need scissors\; all other supplies included. Date and time: October 31\, 10 a.m. to 11 a.m. EDT Location: Virtual   ZOOM Ages: Families & youth ages 5-12 Cost: $5 for members\, $10 for non-members. Kit pick-up on site is free\, or ship up to five kits for an additional $9. Registration: For free on-site pick-up\, registration required no later than three days before the class. For shipping\, registration is required no later than one week before the class. To register\, contact khseducation@ky.gov and reference the program name in the subject line.
X-ALT-DESC;FMTTYPE=text/html:Prepare to be creeped out by strange stories from Kentucky&rsquo\;s past. Did you know that people in the Victorian era made jewelry out of the hair from dearly departed friends and family members? We will create wearable objects inspired by the museum&rsquo\;s unusual artifacts. Participants will need scissors\; all other supplies included. Date and time: October 31\, 10 a.m. to 11 a.m. EDT Location: Virtual &ndash\; ZOOM Ages: Families &amp\; youth ages 5-12 Cost: $5 for members\, $10 for non-members. Kit pick-up on site is free\, or ship up to five kits for an additional $9. Registration: For free on-site pick-up\, registration required no later than three days before the class. For shipping\, registration is required no later than one week before the class. To register\, contact khseducation@ky.gov and reference the program name in the subject line.
LOCATION:This is a VIRTUAL EVENT
UID:e.1786.3551
SEQUENCE:3
DTSTAMP:20260424T072035Z
URL:https://members.frankfortky.info/events/details/halloween-special-event-crafting-victorian-hair-jewelry-3551
END:VEVENT

END:VCALENDAR
