BEGIN:VCALENDAR
VERSION:2.0
PRODID:-//ChamberMaster//Event Calendar 2.0//EN
METHOD:PUBLISH
X-PUBLISHED-TTL:P3D
REFRESH-INTERVAL:P3D
CALSCALE:GREGORIAN
BEGIN:VEVENT
DTSTART:20181027T160000Z
DTEND:20181027T200000Z
X-MICROSOFT-CDO-ALLDAYEVENT:FALSE
SUMMARY:Halloween Walk with the Animals
DESCRIPTION:Put on your costuems and join this kid-friendly Halloween event will include a hay bale maze\, face painting and plenty of candy! Kids will receive a "passport"\, which they will get stamped at each exhibit after receiving a treat (or treat!)
X-ALT-DESC;FMTTYPE=text/html:Put on your costuems and join this kid-friendly Halloween event will include a hay bale maze\, face painting and plenty of candy! Kids will receive a &quot\;passport&quot\;\, which they will get stamped at each exhibit after receiving a treat (or treat!)<br />\n&nbsp\;
LOCATION:Salato Wildlife Education Center 1 Sportsman's Lane Frankfort\, KY 40601
UID:e.1786.3045
SEQUENCE:3
DTSTAMP:20260425T232921Z
URL:https://members.frankfortky.info/events/details/halloween-walk-with-the-animals-3045
END:VEVENT

END:VCALENDAR
