BEGIN:VCALENDAR
VERSION:2.0
PRODID:-//ChamberMaster//Event Calendar 2.0//EN
METHOD:PUBLISH
X-PUBLISHED-TTL:P3D
REFRESH-INTERVAL:P3D
CALSCALE:GREGORIAN
BEGIN:VEVENT
DTSTART:20211029T230000Z
DTEND:20211030T000000Z
X-MICROSOFT-CDO-ALLDAYEVENT:FALSE
SUMMARY:Haunted by History: Nighttime Tour of the Old State Capitol
DESCRIPTION:October 29 & 30\; 7 pm   8 pm Come experience the darker side of Kentucky's Old State Capitol! Feel the shadows of the past on this special nighttime tour of Frankfort's iconic Greek Revival edifice\, highlighting spooky stories from the Kentucky Historical Society Collections. You're in for a frighteningly good time! Registration deadline is noon on the day of the event. Questions? Call 502-782-8070 or send an email to KHSeducation@ky.gov.
X-ALT-DESC;FMTTYPE=text/html:October 29 &amp\; 30\; 7 pm &ndash\; 8 pm Come experience the darker side of Kentucky&rsquo\;s Old State Capitol! Feel the shadows of the past on this special nighttime tour of Frankfort&rsquo\;s iconic Greek Revival edifice\, highlighting spooky stories from the Kentucky Historical Society Collections. You&rsquo\;re in for a frighteningly good time! Registration deadline is noon on the day of the event. Questions? Call 502-782-8070 or send an email to KHSeducation@ky.gov.
LOCATION:Old State Capitol 300 W. Broadway St. Frankfort\, KY 40601
UID:e.1786.3609
SEQUENCE:3
DTSTAMP:20260423T093204Z
URL:https://members.frankfortky.info/events/details/haunted-by-history-nighttime-tour-of-the-old-state-capitol-3609
END:VEVENT

END:VCALENDAR
