BEGIN:VCALENDAR
VERSION:2.0
PRODID:-//ChamberMaster//Event Calendar 2.0//EN
METHOD:PUBLISH
X-PUBLISHED-TTL:P3D
REFRESH-INTERVAL:P3D
CALSCALE:GREGORIAN
BEGIN:VEVENT
DTSTART:20181020T150000Z
DTEND:20181020T193000Z
X-MICROSOFT-CDO-ALLDAYEVENT:FALSE
SUMMARY:Hawktoberfest Programs
DESCRIPTION:Celebrate Kentucky's magnificent raptors with two special Hawtoberfest programs! First\, join us at the Raptor Aviary forn an Autumn-inspired haw enrichment at 11:00 am.\n\n\n\nThen\, join us at 3:00 pm for your chance to learn more about some of the center's resident raptors while enjoying a great view - no binoculars needed!
X-ALT-DESC;FMTTYPE=text/html:Celebrate Kentucky&#39\;s magnificent raptors with two special Hawtoberfest programs! First\, join us at the Raptor Aviary forn an Autumn-inspired haw enrichment at 11:00 am.<br />\n<br />\nThen\, join us at 3:00 pm for your chance to learn more about some of the center&#39\;s resident raptors while enjoying a great view - no binoculars needed!
LOCATION:Salato Wildlife Education Center 1 Sportsman's Lane Frankfort\, KY 40601
UID:e.1786.3044
SEQUENCE:3
DTSTAMP:20260425T232426Z
URL:https://members.frankfortky.info/events/details/hawktoberfest-programs-3044
END:VEVENT

END:VCALENDAR
