BEGIN:VCALENDAR
VERSION:2.0
PRODID:-//ChamberMaster//Event Calendar 2.0//EN
METHOD:PUBLISH
X-PUBLISHED-TTL:P3D
REFRESH-INTERVAL:P3D
CALSCALE:GREGORIAN
BEGIN:VEVENT
DTSTART:20200328T110000Z
DTEND:20200328T140000Z
X-MICROSOFT-CDO-ALLDAYEVENT:FALSE
SUMMARY:Hiram Lodge #4 Pancake Breakfast
DESCRIPTION:On Saturday\, March 28\, 2020 from 7am - 10am\, the Hiram Lodge #4 will hold their 25th Annual Past Master's Scholarship Fund raising All-You-Can-Eat Pancake Breakfast at the V.F.W. Hall located at 104 East 2nd Street.
X-ALT-DESC;FMTTYPE=text/html:On Saturday\, March 28\, 2020 from 7am - 10am\, the Hiram Lodge #4 will hold their 25th Annual Past Master&#39\;s Scholarship Fund raising All-You-Can-Eat Pancake Breakfast at the V.F.W. Hall located at 104 East 2nd Street.&nbsp\;&nbsp\;
LOCATION:V.F.W. Hall located at 104 East 2nd Street Frankfort KY
UID:e.1786.1235
SEQUENCE:3
DTSTAMP:20260424T205918Z
URL:https://members.frankfortky.info/events/details/hiram-lodge-4-pancake-breakfast-1235
END:VEVENT

END:VCALENDAR
