BEGIN:VCALENDAR
VERSION:2.0
PRODID:-//ChamberMaster//Event Calendar 2.0//EN
METHOD:PUBLISH
X-PUBLISHED-TTL:P3D
REFRESH-INTERVAL:P3D
CALSCALE:GREGORIAN
BEGIN:VEVENT
DTSTART:20211030T180000Z
DTEND:20211030T220000Z
X-MICROSOFT-CDO-ALLDAYEVENT:FALSE
SUMMARY:Historic Halloween Part at the Old State Capitol
DESCRIPTION:Spend the afternoon with the Kentucky Historical Society and our community partners on the Old State Capitol lawn for our first-ever Historic Halloween Party! Sample foods of the season\, compete in a costume contest\, purchase seasonal gifts\, and enjoy a wide variety of traditional crafts\, games\, and activities that are fun for the whole family! This event is rain or shine. No registration is required.
X-ALT-DESC;FMTTYPE=text/html:Spend the afternoon with the Kentucky Historical Society and our community partners on the Old State Capitol lawn for our first-ever Historic Halloween Party! Sample foods of the season\, compete in a costume contest\, purchase seasonal gifts\, and enjoy a wide variety of traditional crafts\, games\, and activities that are fun for the whole family! This event is rain or shine. No registration is required.
LOCATION:Old State Capitol 300 W. Broadway St. Frankfort\, KY 40601
UID:e.1786.3610
SEQUENCE:3
DTSTAMP:20260423T103039Z
URL:https://members.frankfortky.info/events/details/historic-halloween-part-at-the-old-state-capitol-3610
END:VEVENT

END:VCALENDAR
