BEGIN:VCALENDAR
VERSION:2.0
PRODID:-//ChamberMaster//Event Calendar 2.0//EN
METHOD:PUBLISH
X-PUBLISHED-TTL:P3D
REFRESH-INTERVAL:P3D
CALSCALE:GREGORIAN
BEGIN:VEVENT
DTSTART:20191121T220000Z
DTEND:20200104T220000Z
X-MICROSOFT-CDO-ALLDAYEVENT:FALSE
SUMMARY:Holiday History Train
DESCRIPTION:HOLIDAY HISTORY TRAIN A BUSY KENTUCKY TOWN Railways connect all of us  to the past\, present\, and future. Trains pass our homes\, schools\, and the places we work. What do you do in your busy town? View a selection of historic artifacts and images from our collections that represent the many types of people in Kentucky. Our interactive exhibit features a Selfie Station\, a "dress-up" area with costumes and props of the people in our busy town\, and other interactive elements. Exhibit Hours: Tuesday   Saturday\, 10:00 am   5:00 pm. Open through Jan. 4. Our busy Kentucky town really comes to life every Saturday (and other select days) with a special model train display\, perfect for family viewing. The trains are maintained and operated by the Trivette family of Frankfort. Trivette Family Model Train Schedule: Thursday\, Nov. 21   5-9 p.m. Friday\, Nov. 22   5-9 p.m. Saturday\, Nov. 23   10 a.m.   5 p.m. Friday\, Nov. 29   10 a.m.   5 p.m. Saturday\, Nov. 30   10 a.m.   5 p.m. Sunday\, Dec. 1   1-5 p.m. Saturday\, Dec. 7   10 a.m.   5 p.m. Saturday\, Dec. 14   10 a.m.   5 p.m. Saturday\, Dec. 21   10 a.m.   5 p.m. Thursday\, Dec. 26   10 a.m.   5 p.m. Friday\, Dec. 27   10 a.m.   5 p.m. Saturday\, Dec. 28   10 a.m.   5 p.m. Monday\, Jan. 2   10 a.m.   5 p.m. Tuesday\, Jan. 3   10 a.m.   5 p.m. Wednesday\, Jan. 4   10 a.m.   5 p.m. Be sure to visit our Stewart Home School 1792 Store for holiday specials during the season.
X-ALT-DESC;FMTTYPE=text/html:HOLIDAY HISTORY TRAIN A BUSY KENTUCKY TOWN Railways connect all of us &hellip\;to the past\, present\, and future. Trains pass our homes\, schools\, and the places we work. What do you do in your busy town? View a selection of historic artifacts and images from our collections that represent the many types of people in Kentucky. Our interactive exhibit features a Selfie Station\, a &ldquo\;dress-up&rdquo\; area with costumes and props of the people in our busy town\, and other interactive elements. Exhibit Hours: Tuesday &ndash\; Saturday\, 10:00 am &ndash\; 5:00 pm. Open through Jan. 4. Our busy Kentucky town really comes to life every Saturday (and other select days) with a special model train display\, perfect for family viewing. The trains are maintained and operated by the Trivette family of Frankfort. Trivette Family Model Train Schedule: Thursday\, Nov. 21 &ndash\; 5-9 p.m. Friday\, Nov. 22 &ndash\; 5-9 p.m. Saturday\, Nov. 23 &ndash\; 10 a.m. &ndash\; 5 p.m. Friday\, Nov. 29 &ndash\; 10 a.m. &ndash\; 5 p.m. Saturday\, Nov. 30 &ndash\; 10 a.m. &ndash\; 5 p.m. Sunday\, Dec. 1 &ndash\; 1-5 p.m. Saturday\, Dec. 7 &ndash\; 10 a.m. &ndash\; 5 p.m. Saturday\, Dec. 14 &ndash\; 10 a.m. &ndash\; 5 p.m. Saturday\, Dec. 21 &ndash\; 10 a.m. &ndash\; 5 p.m. Thursday\, Dec. 26 &ndash\; 10 a.m. &ndash\; 5 p.m. Friday\, Dec. 27 &ndash\; 10 a.m. &ndash\; 5 p.m. Saturday\, Dec. 28 &ndash\; 10 a.m. &ndash\; 5 p.m. Monday\, Jan. 2 &ndash\; 10 a.m. &ndash\; 5 p.m. Tuesday\, Jan. 3 &ndash\; 10 a.m. &ndash\; 5 p.m. Wednesday\, Jan. 4 &ndash\; 10 a.m. &ndash\; 5 p.m. Be sure to visit our Stewart Home School 1792 Store for holiday specials during the season.
LOCATION:Thomas D. Clark Center for Kentucky History\, 100 W Broadway Street\, Frankfort\, KY
UID:e.1786.3189
SEQUENCE:3
DTSTAMP:20260424T223814Z
URL:https://members.frankfortky.info/events/details/holiday-history-train-3189
END:VEVENT

END:VCALENDAR
