BEGIN:VCALENDAR
VERSION:2.0
PRODID:-//ChamberMaster//Event Calendar 2.0//EN
METHOD:PUBLISH
X-PUBLISHED-TTL:P3D
REFRESH-INTERVAL:P3D
CALSCALE:GREGORIAN
BEGIN:VEVENT
DTSTART:20191210T233000Z
DTEND:20191211T010000Z
X-MICROSOFT-CDO-ALLDAYEVENT:FALSE
SUMMARY:Holiday Movie Trivia
DESCRIPTION:Holiday Movie Trivia\n\nTuesday\, December 10 @ 6:30pm\n\nRiver Room\n\n \n\nGet into the spirit of the season with this special trivia night for adults. Ugly holiday sweaters welcome!\n\n \n\nPlease register your team of 1-4 contestants at www.pspl.org/holidaymovietrivia.\n\n \n\nFor more information\, contact Diane Dehoney at 352-2665 x108 or diane@pspl.org.
X-ALT-DESC;FMTTYPE=text/html:<p style="margin:0in\;margin-bottom:.0001pt\;background:white"><b><span style="font-family:&quot\;Calibri&quot\;\,&quot\;sans-serif&quot\;">Holiday Movie Trivia<br />\nTuesday\, December 10 @ 6:30pm<br />\nRiver Room<o:p></o:p></span></b></p>\n\n<p style="margin:0in\;margin-bottom:.0001pt\;background:white"><span style="font-family:&quot\;Calibri&quot\;\,&quot\;sans-serif&quot\;"><o:p>&nbsp\;</o:p></span></p>\n\n<p style="margin:0in\;margin-bottom:.0001pt\;background:white"><span style="font-family:&quot\;Calibri&quot\;\,&quot\;sans-serif&quot\;">Get into the spirit of the season with this special trivia night for adults. Ugly holiday sweaters welcome!<o:p></o:p></span></p>\n\n<p style="margin:0in\;margin-bottom:.0001pt\;background:white\;box-sizing: inherit\;\nfont-variant-ligatures: normal\;font-variant-caps: normal\;orphans: 2\;widows: 2\;\n-webkit-text-stroke-width: 0px\;text-decoration-style: initial\;text-decoration-color: initial\;\nword-spacing:0px"><span style="font-family:&quot\;Calibri&quot\;\,&quot\;sans-serif&quot\;"><o:p>&nbsp\;</o:p></span></p>\n\n<p style="margin:0in\;margin-bottom:.0001pt\;background:white"><span style="font-family:&quot\;Calibri&quot\;\,&quot\;sans-serif&quot\;">Please register your team of 1-4 contestants at&nbsp\;<a href="https://www.pspl.org/holidaymovietrivia"><span style="color:windowtext">www.pspl.org/holidaymovietrivia</span></a>.<o:p></o:p></span></p>\n\n<p style="margin:0in\;margin-bottom:.0001pt\;background:white\;box-sizing: inherit\;\nfont-variant-ligatures: normal\;font-variant-caps: normal\;orphans: 2\;widows: 2\;\n-webkit-text-stroke-width: 0px\;text-decoration-style: initial\;text-decoration-color: initial\;\nword-spacing:0px"><span style="font-family:&quot\;Calibri&quot\;\,&quot\;sans-serif&quot\;"><o:p>&nbsp\;</o:p></span></p>\n\n<p style="margin:0in\;margin-bottom:.0001pt\;background:white"><span style="font-family:&quot\;Calibri&quot\;\,&quot\;sans-serif&quot\;">For more information\, contact Diane Dehoney at 352-2665 x108 or&nbsp\;<a href="https://www.pspl.org/event/holiday-movie-trivia/diane@pspl.org"><span style="color:windowtext">diane@pspl.org</span></a>.<o:p></o:p></span></p>\n
LOCATION:Paul Sawyier Public Library 319 Wapping Street
UID:e.1786.3333
SEQUENCE:3
DTSTAMP:20260425T001536Z
URL:https://members.frankfortky.info/events/details/holiday-movie-trivia-3333
END:VEVENT

END:VCALENDAR
