BEGIN:VCALENDAR
VERSION:2.0
PRODID:-//ChamberMaster//Event Calendar 2.0//EN
METHOD:PUBLISH
X-PUBLISHED-TTL:P3D
REFRESH-INTERVAL:P3D
CALSCALE:GREGORIAN
BEGIN:VEVENT
DTSTART:20181213T210000Z
DTEND:20181213T230000Z
X-MICROSOFT-CDO-ALLDAYEVENT:FALSE
SUMMARY:Holiday Spectacular at The Dominion
DESCRIPTION:Celebrate the holidays with Dominion Senior Living. Join The Dominion for a night filled with holiday music\, food\, drinks and Christmas fun!
X-ALT-DESC;FMTTYPE=text/html:Celebrate the holidays with Dominion Senior Living. Join The Dominion for a night filled with holiday music\, food\, drinks and Christmas fun!
LOCATION:The Dominion Senior Living Center 122 Leawood Drive Frankfort\, KY
UID:e.1786.3059
SEQUENCE:3
DTSTAMP:20260425T202332Z
URL:https://members.frankfortky.info/events/details/holiday-spectacular-at-the-dominion-3059
END:VEVENT

END:VCALENDAR
