BEGIN:VCALENDAR
VERSION:2.0
PRODID:-//ChamberMaster//Event Calendar 2.0//EN
METHOD:PUBLISH
X-PUBLISHED-TTL:P3D
REFRESH-INTERVAL:P3D
CALSCALE:GREGORIAN
BEGIN:VEVENT
DTSTART:20220618T233000Z
DTEND:20220619T013000Z
X-MICROSOFT-CDO-ALLDAYEVENT:FALSE
SUMMARY:I am Not Your Negro by James Baldwin
DESCRIPTION:Celebrate Juneteenth in Frankfort with a Movie at The Grand Theatre.\n\nI am Not Your Negro  by James Baldwin.
X-ALT-DESC;FMTTYPE=text/html:Celebrate Juneteenth in Frankfort with a Movie at The Grand Theatre.<br />\n<em>I am Not Your Negro&nbsp\;</em>&nbsp\;by James Baldwin.&nbsp\;
LOCATION:
UID:e.1786.3934
SEQUENCE:3
DTSTAMP:20260422T191225Z
URL:https://members.frankfortky.info/events/details/i-am-not-your-negro-by-james-baldwin-3934
END:VEVENT

END:VCALENDAR
