BEGIN:VCALENDAR
VERSION:2.0
PRODID:-//ChamberMaster//Event Calendar 2.0//EN
METHOD:PUBLISH
X-PUBLISHED-TTL:P3D
REFRESH-INTERVAL:P3D
CALSCALE:GREGORIAN
BEGIN:VEVENT
DTSTART:20191207T180000Z
DTEND:20191207T200000Z
X-MICROSOFT-CDO-ALLDAYEVENT:FALSE
SUMMARY:Inside the lines coloring club
DESCRIPTION:Inside the Lines Coloring Club\n\nSaturday\, December 7 @ 1:00pm-3:00pm\n\nRiver Room\n\n \n\nJoin us for an afternoon of coloring and relaxation. Adult coloring books offer a fun way to unwind and tap into your creativity. Studies have shown that coloring can reduce stress and improve focus and mindfulness.\n\n \n\nNo registration is necessary for this free event\, just drop in! For more information\, contact Diane Dehoney at 352-2665 x108 or diane@pspl.org
X-ALT-DESC;FMTTYPE=text/html:<strong><span style="font-family:calibri\,sans-serif\;">Inside the Lines Coloring Club<br />\nSaturday\, December 7 @ 1:00pm-3:00pm<br />\nRiver Room</span></strong><br />\n&nbsp\;<br />\n<span style="font-family:calibri\,sans-serif\;">Join us for an afternoon of coloring and relaxation. Adult coloring books offer a fun way to unwind and tap into your creativity. Studies have shown that coloring can reduce stress and improve focus and mindfulness.</span><br />\n&nbsp\;<br />\n<span style="font-family:calibri\,sans-serif\;"><span style="font-size:11.0pt\;">No registration is necessary for this free event\, just drop in! For more information\, contact Diane Dehoney at 352-2665 x108 or&nbsp\;<a href="mailto:diane@pspl.org"><span style="color:windowtext\;">diane@pspl.org</span></a></span></span>
LOCATION:Paul Sawyier Public Library 319 Wapping Street
UID:e.1786.3331
SEQUENCE:3
DTSTAMP:20260425T015547Z
URL:https://members.frankfortky.info/events/details/inside-the-lines-coloring-club-3331
END:VEVENT

END:VCALENDAR
