BEGIN:VCALENDAR
VERSION:2.0
PRODID:-//ChamberMaster//Event Calendar 2.0//EN
METHOD:PUBLISH
X-PUBLISHED-TTL:P3D
REFRESH-INTERVAL:P3D
CALSCALE:GREGORIAN
BEGIN:VEVENT
DTSTART:20191205T230000Z
DTEND:20191206T013000Z
X-MICROSOFT-CDO-ALLDAYEVENT:FALSE
SUMMARY:Introducing PSPL Indie's Author Services
DESCRIPTION:Introducing PSPL's Indie Author Services\n\nThursday\, December 5 @ 6:00pm\n\nRiver Room\n\n \n\nFor writers interested in easy-to-use\, free resources for publishing and sharing books\, and for readers interested in discovering books by indie authors\, your Paul Sawyier Public Library brings you the Indie Author Project services.\n\n \n\nLocal Writers   Create professional quality print-ready and eBook files with the Pressbooks Public tool and share them with library patrons all across Kentucky and potentially throughout the U.S. and Canada with the Indie Author Project collections and contests.\n\nReaders   Find new and diverse eBooks published by local\, independent authors.\n\n \n\nPlease register online or at the library. For more information\, contact Diane Dehoney at 352-2665 x108 or diane@pspl.org.\n\n \n\nRegister: http://bit.ly/psplIndieAuthor
X-ALT-DESC;FMTTYPE=text/html:<p style="margin:0in\;margin-bottom:.0001pt\;background:white"><b><span style="font-family:&quot\;Calibri&quot\;\,&quot\;sans-serif&quot\;">Introducing PSPL&rsquo\;s Indie Author Services<br />\nThursday\, December 5 @ 6:00pm<br />\nRiver Room<o:p></o:p></span></b></p>\n\n<p style="margin:0in\;margin-bottom:.0001pt\;background:white"><span style="font-family:&quot\;Calibri&quot\;\,&quot\;sans-serif&quot\;"><o:p>&nbsp\;</o:p></span></p>\n\n<p style="margin:0in\;margin-bottom:.0001pt\;background:white"><span style="font-family:&quot\;Calibri&quot\;\,&quot\;sans-serif&quot\;">For writers interested in easy-to-use\, free resources for publishing and sharing books\, and for readers interested in discovering books by indie authors\, your Paul Sawyier Public Library brings you the Indie Author Project services.<o:p></o:p></span></p>\n\n<p style="margin:0in\;margin-bottom:.0001pt\;background:white"><span style="font-family:&quot\;Calibri&quot\;\,&quot\;sans-serif&quot\;"><o:p>&nbsp\;</o:p></span></p>\n\n<p style="margin:0in\;margin-bottom:.0001pt\;background:white"><span style="font-family:&quot\;Calibri&quot\;\,&quot\;sans-serif&quot\;">Local Writers &ndash\; Create professional quality print-ready and eBook files with the Pressbooks Public tool and share them with library patrons all across Kentucky and potentially throughout the U.S. and Canada with the Indie Author Project collections and contests.<o:p></o:p></span></p>\n\n<p style="margin:0in\;margin-bottom:.0001pt\;background:white\;box-sizing: inherit\;\nfont-variant-ligatures: normal\;font-variant-caps: normal\;orphans: 2\;widows: 2\;\n-webkit-text-stroke-width: 0px\;text-decoration-style: initial\;text-decoration-color: initial\;\nword-spacing:0px"><span style="font-family:&quot\;Calibri&quot\;\,&quot\;sans-serif&quot\;">Readers &ndash\; Find new and diverse eBooks published by local\, independent authors.<o:p></o:p></span></p>\n\n<p style="margin:0in\;margin-bottom:.0001pt\;background:white\;box-sizing: inherit\;\nfont-variant-ligatures: normal\;font-variant-caps: normal\;orphans: 2\;widows: 2\;\n-webkit-text-stroke-width: 0px\;text-decoration-style: initial\;text-decoration-color: initial\;\nword-spacing:0px"><span style="font-family:&quot\;Calibri&quot\;\,&quot\;sans-serif&quot\;"><o:p>&nbsp\;</o:p></span></p>\n\n<p style="margin:0in\;margin-bottom:.0001pt\;background:white"><span style="font-family:&quot\;Calibri&quot\;\,&quot\;sans-serif&quot\;">Please register online or at the library. For more information\, contact Diane Dehoney at 352-2665 x108 or&nbsp\;<a href="mailto:diane@pspl.org"><span style="color:windowtext">diane@pspl.org</span></a>.<o:p></o:p></span></p>\n\n<p style="margin:0in\;margin-bottom:.0001pt\;background:white\;box-sizing: inherit\;\nfont-variant-ligatures: normal\;font-variant-caps: normal\;orphans: 2\;widows: 2\;\n-webkit-text-stroke-width: 0px\;text-decoration-style: initial\;text-decoration-color: initial\;\nword-spacing:0px"><span style="font-family:&quot\;Calibri&quot\;\,&quot\;sans-serif&quot\;"><o:p>&nbsp\;</o:p></span></p>\n\n<p style="margin:0in\;margin-bottom:.0001pt\;background:white"><span style="font-family:&quot\;Calibri&quot\;\,&quot\;sans-serif&quot\;">Register:&nbsp\;<a href="http://bit.ly/psplIndieAuthor"><span style="color:windowtext">http://bit.ly/psplIndieAuthor</span></a><o:p></o:p></span></p>\n
LOCATION:Paul Sawyer Public Library
UID:e.1786.1337
SEQUENCE:3
DTSTAMP:20260425T001031Z
URL:https://members.frankfortky.info/events/details/introducing-pspl-indie-s-author-services-1337
END:VEVENT

END:VCALENDAR
