BEGIN:VCALENDAR
VERSION:2.0
PRODID:-//ChamberMaster//Event Calendar 2.0//EN
METHOD:PUBLISH
X-PUBLISHED-TTL:P3D
REFRESH-INTERVAL:P3D
CALSCALE:GREGORIAN
BEGIN:VEVENT
DTSTART:20190121T220000Z
DTEND:20190122T000000Z
X-MICROSOFT-CDO-ALLDAYEVENT:FALSE
SUMMARY:January Jamboree
DESCRIPTION:Thank you Jill Robinson\n\n \n\nJanuary Jamboree\n\n \n\nMonday Jan 21 (Martin Luther King Day)\n\nA benefit dinner for the Sunshine Center\n\n \n\n5-7 pm Church of the Ascension \n\n311 Washington St.\n\n \n\nGourmet Spaghetti Dinner for reservations and cost to attend fees\, call 502 875-3495 or email frankfortsunshinecenter@gmail.com
X-ALT-DESC;FMTTYPE=text/html:<p style="margin: 0px\;"><font face="Consolas">Thank you Jill Robinson</font></p>\n\n<p style="margin: 0px\;"><font face="Consolas">&nbsp\;</font></p>\n\n<p style="margin: 0px\;"><font face="Consolas">January Jamboree</font></p>\n\n<p style="margin: 0px\;"><font face="Consolas">&nbsp\;</font></p>\n\n<p style="margin: 0px\;"><font face="Consolas">Monday Jan 21 (Martin Luther King Day)</font></p>\n\n<p style="margin: 0px\;"><font face="Consolas">A benefit dinner for the Sunshine Center</font></p>\n\n<p style="margin: 0px\;"><font face="Consolas">&nbsp\;</font></p>\n\n<p style="margin: 0px\;"><font face="Consolas">5-7 pm Church of the Ascension </font></p>\n\n<p style="margin: 0px\;"><font face="Consolas">311 Washington St.</font></p>\n\n<p style="margin: 0px\;"><font face="Consolas">&nbsp\;</font></p>\n\n<p style="margin: 0px\;"><font face="Consolas">Gourmet Spaghetti Dinner </font><font face="Consolas">for reservations and cost to attend fees\, call 502 875-3495 or email <a>frankfortsunshinecenter@gmail.com</a></font></p>\n
LOCATION:Church of the Ascension 311 Washington St.
UID:e.1786.3068
SEQUENCE:3
DTSTAMP:20260425T182430Z
URL:https://members.frankfortky.info/events/details/january-jamboree-3068
END:VEVENT

END:VCALENDAR
