BEGIN:VCALENDAR
VERSION:2.0
PRODID:-//ChamberMaster//Event Calendar 2.0//EN
METHOD:PUBLISH
X-PUBLISHED-TTL:P3D
REFRESH-INTERVAL:P3D
CALSCALE:GREGORIAN
BEGIN:VEVENT
DTSTART:20191218T230000Z
DTEND:20191219T010000Z
X-MICROSOFT-CDO-ALLDAYEVENT:FALSE
SUMMARY:Jingle Jam
DESCRIPTION:Jingle Jam is a Christmas party BIG enough for the whole family! There'll be comedy\, games\, family Christmas pictures\, cookies & cocoa and so much more! There are two performances\, Dec 18 at 6pm and Dec 24 at 5pm.
X-ALT-DESC;FMTTYPE=text/html:Jingle Jam is a Christmas party BIG enough for the whole family! There&#39\;ll be comedy\, games\, family Christmas pictures\, cookies &amp\; cocoa and so much more! There are two performances\, Dec 18 at 6pm and Dec 24 at 5pm.
LOCATION:Capital City Christian Church 15 Locust Drive Frankfort\, KY
UID:e.1786.3194
SEQUENCE:3
DTSTAMP:20260425T015230Z
URL:https://members.frankfortky.info/events/details/jingle-jam-3194
END:VEVENT

END:VCALENDAR
