BEGIN:VCALENDAR
VERSION:2.0
PRODID:-//ChamberMaster//Event Calendar 2.0//EN
METHOD:PUBLISH
X-PUBLISHED-TTL:P3D
REFRESH-INTERVAL:P3D
CALSCALE:GREGORIAN
BEGIN:VEVENT
DTSTART:20230208T170000Z
DTEND:20230208T183000Z
X-MICROSOFT-CDO-ALLDAYEVENT:FALSE
SUMMARY:Joint ROK (Rotary\, Optimist & Kiwanis) Club Meeting to Honor Hank Hancock
DESCRIPTION:Come help us celebrate a lifetime of achievements for civic leader\, businessman and former Kentucky State Representative Hank Hancock. Due to Hank's devotion to civic involvement\, the event will also be an unofficial joint meeting of the Frankfort Rotary\, Optimist and Kiwanis clubs. The celebration will begin at noon with a luncheon and program to follow at Thornhill Learner Center. To register and to purchase lunch or without lunch go to https://members.frankfortky.info/events/details/joint-rok-rotary-optimist-kiwanis-club-meeting-to-honor-hank-hancock-4145 A very limited number of lunches will be available for walk-in attendees.
X-ALT-DESC;FMTTYPE=text/html:Come help us celebrate a lifetime of achievements for civic leader\, businessman and former Kentucky State Representative Hank Hancock. Due to Hank&rsquo\;s devotion to civic involvement\, the event will also be an unofficial joint meeting of the Frankfort Rotary\, Optimist and Kiwanis clubs. The celebration will begin at noon with a luncheon and program to follow at Thornhill Learner Center. To register and to purchase lunch or without lunch go to https://members.frankfortky.info/events/details/joint-rok-rotary-optimist-kiwanis-club-meeting-to-honor-hank-hancock-4145 A very limited number of lunches will be available for walk-in attendees.
LOCATION:Thorn Hill Education Center 700 Leslie Avenue Frankfort\, KY 40601
UID:e.1786.4145
SEQUENCE:3
DTSTAMP:20260422T060718Z
URL:https://members.frankfortky.info/events/details/joint-rok-rotary-optimist-kiwanis-club-meeting-to-honor-hank-hancock-4145
END:VEVENT

END:VCALENDAR
