BEGIN:VCALENDAR
VERSION:2.0
PRODID:-//ChamberMaster//Event Calendar 2.0//EN
METHOD:PUBLISH
X-PUBLISHED-TTL:P3D
REFRESH-INTERVAL:P3D
CALSCALE:GREGORIAN
BEGIN:VEVENT
DTSTART:20240606T123000Z
DTEND:20240606T140000Z
X-MICROSOFT-CDO-ALLDAYEVENT:FALSE
SUMMARY:June WIN Sponsored by Tingle Travel Agency and The Evergreen
DESCRIPTION:The mission of WIN is to provide opportunities for women to network\, form new business relationships and friendships\, share ideas and support one another. WIN Breakfasts are held monthly and are hosted by a woman-owned or managed business.  These are open to both Frankfort Area Chamber Members and guests in our surrounding area!
X-ALT-DESC;FMTTYPE=text/html:<span style="color: rgb(64\, 64\, 64)\; font-family: Lato\, Helvetica\, Arial\, sans-serif\; font-size: 16px\; background-color: rgb(247\, 247\, 247)\;">The&nbsp\;mission of WIN is to provide opportunities for women to network\, form new business relationships and friendships\, share ideas and support one another. WIN Breakfasts are held monthly and are hosted by a woman-owned or managed business.&nbsp\; These are open to both Frankfort Area Chamber Members and guests in our surrounding area!</span><br />\n&nbsp\;
LOCATION:400 Evergreen Rd\, Frankfort\, KY 40601
UID:e.1786.4511
SEQUENCE:3
DTSTAMP:20260421T230053Z
URL:https://members.frankfortky.info/events/details/june-win-sponsored-by-tingle-travel-agency-and-the-evergreen-4511
END:VEVENT

END:VCALENDAR
