BEGIN:VCALENDAR
VERSION:2.0
PRODID:-//ChamberMaster//Event Calendar 2.0//EN
METHOD:PUBLISH
X-PUBLISHED-TTL:P3D
REFRESH-INTERVAL:P3D
CALSCALE:GREGORIAN
BEGIN:VEVENT
DTSTART:20220618T213000Z
DTEND:20220618T230000Z
X-MICROSOFT-CDO-ALLDAYEVENT:FALSE
SUMMARY:Juneteenth Forum
DESCRIPTION:Celebrate Juneteenth in Frankfort.\n\nJuneteenth Forum. Focus on Race Relations essay contest winners will be announced with up to $5000 in prizes awarded. Panel discussion on race-relations issued with audience participation. All welcome.
X-ALT-DESC;FMTTYPE=text/html:Celebrate Juneteenth in Frankfort.<br />\nJuneteenth Forum. Focus on Race Relations essay contest winners will be announced with up to $5000 in prizes awarded. Panel discussion on race-relations issued with audience participation. All welcome.
LOCATION:Old Capitol Building 300 W Broadway Street
UID:e.1786.3933
SEQUENCE:3
DTSTAMP:20260422T190351Z
URL:https://members.frankfortky.info/events/details/juneteenth-forum-3933
END:VEVENT

END:VCALENDAR
