BEGIN:VCALENDAR
VERSION:2.0
PRODID:-//ChamberMaster//Event Calendar 2.0//EN
METHOD:PUBLISH
X-PUBLISHED-TTL:P3D
REFRESH-INTERVAL:P3D
CALSCALE:GREGORIAN
BEGIN:VEVENT
DTSTART:20201015T233000Z
DTEND:20201016T003000Z
X-MICROSOFT-CDO-ALLDAYEVENT:FALSE
SUMMARY:Kentucky History Virtual Trivia Night: Creepy Kentucky
DESCRIPTION:Hey trivia fans! Tired of wearing that mask to go out? Then stay #healthyathome and join us via Zoom* for some socially distant scary fun! Players will be grouped into teams** to test their knowledge of the scary\, the spooky\, and the sinister side of Kentucky history. You'll be playing for bragging rights AND some fun prizes so don't miss out! To register\, please complete the form below and you will receive information on how to connect. Questions? Send an email to KHSeducation@ky.gov. *To participate via Zoom\, players must log in from a device with a working microphone and speakers in order to communicate with other players. Also having video access is ideal\, but not required. **Established trivia teams are welcome to participate. When you register\, please provide the names of all players on your team.
X-ALT-DESC;FMTTYPE=text/html:Hey trivia fans! Tired of wearing that mask to go out? Then stay #healthyathome and join us via Zoom* for some socially distant scary fun! Players will be grouped into teams** to test their knowledge of the scary\, the spooky\, and the sinister side of Kentucky history. You&rsquo\;ll be playing for bragging rights AND some fun prizes so don&rsquo\;t miss out! To register\, please complete the form below and you will receive information on how to connect. Questions? Send an email to KHSeducation@ky.gov. *To participate via Zoom\, players must log in from a device with a working microphone and speakers in order to communicate with other players. Also having video access is ideal\, but not required. **Established trivia teams are welcome to participate. When you register\, please provide the names of all players on your team.
LOCATION:This is a VIRTUAL EVENT!
UID:e.1786.3549
SEQUENCE:3
DTSTAMP:20260424T071715Z
URL:https://members.frankfortky.info/events/details/kentucky-history-virtual-trivia-night-creepy-kentucky-3549
END:VEVENT

END:VCALENDAR
