BEGIN:VCALENDAR
VERSION:2.0
PRODID:-//ChamberMaster//Event Calendar 2.0//EN
METHOD:PUBLISH
X-PUBLISHED-TTL:P3D
REFRESH-INTERVAL:P3D
CALSCALE:GREGORIAN
BEGIN:VEVENT
DTSTART:20210219T003000Z
DTEND:20210219T013000Z
X-MICROSOFT-CDO-ALLDAYEVENT:FALSE
SUMMARY:Kentucky History Virtual Trivia Night! Kentucky Love Affairs and Scandals
DESCRIPTION:Valentine?s Day may be over\, but our love for Kentucky history never ends! Join us via Zoom* to test your knowledge of romantic entanglements\, hot affairs\, and scandalous liaisons gossiped about throughout the Commonwealth. Players will be grouped into teams to keep things fun!** Come on your own\, gather some friends (virtually!)\, or enjoy a date night in with your significant other. To register\, click here by 4 pm EST on February 18th and you will receive information on how to connect. Questions? Send an email to KHSeducation@ky.gov. *To participate via Zoom\, players must log in from a device with a working microphone and speakers in order to communicate with other players. Also having video access is ideal\, but not required. **Established trivia teams of up to 5 players are welcome to participate. Cost: Free for KHS members. Non-members $5 per team of up to 5 players.
X-ALT-DESC;FMTTYPE=text/html:Valentine?s Day may be over\, but our love for Kentucky history never ends! Join us via Zoom* to test your knowledge of romantic entanglements\, hot affairs\, and scandalous liaisons gossiped about throughout the Commonwealth. Players will be grouped into teams to keep things fun!** Come on your own\, gather some friends (virtually!)\, or enjoy a date night in with your significant other. To register\, click here by 4 pm EST on February 18th and you will receive information on how to connect. Questions? Send an email to KHSeducation@ky.gov. *To participate via Zoom\, players must log in from a device with a working microphone and speakers in order to communicate with other players. Also having video access is ideal\, but not required. **Established trivia teams of up to 5 players are welcome to participate. Cost: Free for KHS members. Non-members $5 per team of up to 5 players.
LOCATION:Virtual
UID:e.1786.3568
SEQUENCE:3
DTSTAMP:20260423T233359Z
URL:https://members.frankfortky.info/events/details/kentucky-history-virtual-trivia-night-kentucky-love-affairs-and-scandals-3568
END:VEVENT

END:VCALENDAR
