BEGIN:VCALENDAR
VERSION:2.0
PRODID:-//ChamberMaster//Event Calendar 2.0//EN
METHOD:PUBLISH
X-PUBLISHED-TTL:P3D
REFRESH-INTERVAL:P3D
CALSCALE:GREGORIAN
BEGIN:VEVENT
DTSTART:20210312T003000Z
DTEND:20210312T013000Z
X-MICROSOFT-CDO-ALLDAYEVENT:FALSE
SUMMARY:KENTUCKY HISTORY VIRTUAL TRIVIA NIGHT: KENTUCKY WOMEN BEHAVING BADLY
DESCRIPTION:Celebrate Women?s History Month with some girl power trivia! Test your knowledge of Kentucky women who broke barriers\, got in trouble\, and refused to accept limitations. Players will be grouped into teams to keep things fun!** Come on your own\, gather some friends (virtually!)\, or enjoy a date night in with your significant other. To register\, click here by 4 pm EST on March 11th and you will receive information on how to connect. Questions? Send an email to KHSeducation@ky.gov. *To participate via Zoom\, players must log in from a device with a working microphone and speakers in order to communicate with other players. Also having video access is ideal\, but not required. **Established trivia teams of up to 5 players are welcome to participate. Cost: Free for KHS members. Non-members $5 per team of up to 5 players.
X-ALT-DESC;FMTTYPE=text/html:Celebrate Women?s History Month with some girl power trivia! Test your knowledge of Kentucky women who broke barriers\, got in trouble\, and refused to accept limitations. Players will be grouped into teams to keep things fun!** Come on your own\, gather some friends (virtually!)\, or enjoy a date night in with your significant other. To register\, click here by 4 pm EST on March 11th and you will receive information on how to connect. Questions? Send an email to KHSeducation@ky.gov. *To participate via Zoom\, players must log in from a device with a working microphone and speakers in order to communicate with other players. Also having video access is ideal\, but not required. **Established trivia teams of up to 5 players are welcome to participate. Cost: Free for KHS members. Non-members $5 per team of up to 5 players.
LOCATION:Virtual
UID:e.1786.3571
SEQUENCE:3
DTSTAMP:20260423T233359Z
URL:https://members.frankfortky.info/events/details/kentucky-history-virtual-trivia-night-kentucky-women-behaving-badly-3571
END:VEVENT

END:VCALENDAR
