BEGIN:VCALENDAR
VERSION:2.0
PRODID:-//ChamberMaster//Event Calendar 2.0//EN
METHOD:PUBLISH
X-PUBLISHED-TTL:P3D
REFRESH-INTERVAL:P3D
CALSCALE:GREGORIAN
BEGIN:VEVENT
DTSTART:20190428T180000Z
DTEND:20190428T200000Z
X-MICROSOFT-CDO-ALLDAYEVENT:FALSE
SUMMARY:Kentucky Narratives in Poetry & Prose: Dan Howell & Steven R. Cope
DESCRIPTION:Kentucky Narratives in Poetry & Prose: Dan Howell & Steven R. Cope\n\nSunday\, April 28 @ 2:00pm\n\nRiver Room\n\n \n\nIn recognition of April as National Poetry Month\, PSPL and Broadstone Books are proud to present "Kentucky Narratives in Poetry & Prose". Reading from their new releases\, this event will feature Kentucky authors Dan Howell and Steven R. Cope. A signing will follow with books available for purchase from Poor Richard's Books.\n\n \n\nNo registration necessary. For more information\, contact Diane Dehoney at 352-2665 x108 or diane@pspl.org.
X-ALT-DESC;FMTTYPE=text/html:<p style="margin:0in\;margin-bottom:.0001pt\;background:white"><b><span style="font-size:14.0pt\;font-family:&quot\;Calibri&quot\;\,&quot\;sans-serif&quot\;">Kentucky Narratives in Poetry &amp\; Prose: Dan Howell &amp\; Steven R. Cope<o:p></o:p></span></b></p>\n\n<p style="margin:0in\;margin-bottom:.0001pt\;background:white"><b><span style="font-size:14.0pt\;font-family:&quot\;Calibri&quot\;\,&quot\;sans-serif&quot\;">Sunday\, April 28 @ 2:00pm<o:p></o:p></span></b></p>\n\n<p style="margin:0in\;margin-bottom:.0001pt\;background:white"><b><span style="font-size:14.0pt\;font-family:&quot\;Calibri&quot\;\,&quot\;sans-serif&quot\;">River Room<o:p></o:p></span></b></p>\n\n<p style="margin:0in\;margin-bottom:.0001pt\;background:white"><span style="font-size:14.0pt\;font-family:&quot\;Calibri&quot\;\,&quot\;sans-serif&quot\;"><o:p>&nbsp\;</o:p></span></p>\n\n<p style="margin:0in\;margin-bottom:.0001pt\;background:white"><span style="font-size:14.0pt\;font-family:&quot\;Calibri&quot\;\,&quot\;sans-serif&quot\;">In recognition of April as National Poetry Month\, PSPL and Broadstone Books are proud to present &ldquo\;Kentucky Narratives in Poetry &amp\; Prose&rdquo\;. Reading from their new releases\, this event will feature Kentucky authors Dan Howell and Steven R. Cope. A signing will follow with books available for purchase from Poor Richard&rsquo\;s Books.<o:p></o:p></span></p>\n\n<p style="margin:0in\;margin-bottom:.0001pt\;background:white\;box-sizing: inherit\;\nfont-variant-ligatures: normal\;font-variant-caps: normal\;orphans: 2\;widows: 2\;\n-webkit-text-stroke-width: 0px\;text-decoration-style: initial\;text-decoration-color: initial\;\nword-spacing:0px"><span style="font-size:14.0pt\;font-family:&quot\;Calibri&quot\;\,&quot\;sans-serif&quot\;"><o:p>&nbsp\;</o:p></span></p>\n\n<p style="margin:0in\;margin-bottom:.0001pt\;background:white"><span style="font-size:14.0pt\;font-family:&quot\;Calibri&quot\;\,&quot\;sans-serif&quot\;">No registration necessary. For more information\, contact Diane Dehoney at 352-2665 x108 or&nbsp\;<a href="mailto:diane@pspl.org"><span style="color:windowtext">diane@pspl.org</span></a>.<o:p></o:p></span></p>\n
LOCATION:Paul Sawyier Public Library
UID:e.1786.3108
SEQUENCE:3
DTSTAMP:20260425T133549Z
URL:https://members.frankfortky.info/events/details/kentucky-narratives-in-poetry-prose-dan-howell-steven-r-cope-3108
END:VEVENT

END:VCALENDAR
