BEGIN:VCALENDAR
VERSION:2.0
PRODID:-//ChamberMaster//Event Calendar 2.0//EN
METHOD:PUBLISH
X-PUBLISHED-TTL:P3D
REFRESH-INTERVAL:P3D
CALSCALE:GREGORIAN
BEGIN:VEVENT
DTSTART:20181020T190000Z
DTEND:20181021T000000Z
X-MICROSOFT-CDO-ALLDAYEVENT:FALSE
SUMMARY:Kentucky River Jam Music/Arts Festival
DESCRIPTION:Summer Music and Arts festivals presented by Capital Plaza Hotel in association with Hollerwood Productions and organizing sponsor Canoe Kentucky presents the first installment of the "Kentucky River Jam" Music/Art series. \n\n\n\nJoin us 7/14 at Ward Oates Amphitheater for a free\, all ages event featuring musical performances by The Phoenix Brothers Band and Donnie Bowling. \n\n\n\nKid Friendly\, boaters welcome\, bring your blankets and lawn chairs and enjoy an evening full of live music\, food trucks and craft brews from West Sixth Brewing. Plenty of parking and a riverfront view\, whats not to love?\n\n\n\n\n\nWe are accepting artists and makers for this event. Booth fee is $30 and will go directly to the Kentucky Waterways Alliance\, a nonprofit that protects and restores KY waterways. Each month will have a sponsored non-profit\, if interested in becoming one of those please contact us!\n\n\n\nIf interested in participating as a volunteer or art vendor\, please contact Chris Howard: chris@canoeky.com\n\n\n\nFood trucks please contact Diane Strong: dianestron@ymail.com
X-ALT-DESC;FMTTYPE=text/html:<span style="color: rgb(75\, 79\, 86)\; font-family: Helvetica\, Arial\, sans-serif\; font-size: 14px\; font-variant-numeric: normal\; font-variant-east-asian: normal\;">Summer Music and Arts festivals presented by Capital Plaza Hotel in association with Hollerwood Productions and organizing sponsor Canoe Kentucky presents the first installment of the &ldquo\;Kentucky River Jam&rdquo\; Music/Art series. </span><br style="color: rgb(75\, 79\, 86)\; display: inline\; font-family: Helvetica\, Arial\, sans-serif\; font-size: 14px\; font-variant-numeric: normal\; font-variant-east-asian: normal\;" />\n<br style="color: rgb(75\, 79\, 86)\; display: inline\; font-family: Helvetica\, Arial\, sans-serif\; font-size: 14px\; font-variant-numeric: normal\; font-variant-east-asian: normal\;" />\n<span style="color: rgb(75\, 79\, 86)\; font-family: Helvetica\, Arial\, sans-serif\; font-size: 14px\; font-variant-numeric: normal\; font-variant-east-asian: normal\;">Join us 7/14 at Ward Oates Amphitheater for a free\, all ages event featuring musical performances by The Phoenix Brothers Band and Donnie Bowling. </span><br style="color: rgb(75\, 79\, 86)\; display: inline\; font-family: Helvetica\, Arial\, sans-serif\; font-size: 14px\; font-variant-numeric: normal\; font-variant-east-asian: normal\;" />\n<br style="color: rgb(75\, 79\, 86)\; display: inline\; font-family: Helvetica\, Arial\, sans-serif\; font-size: 14px\; font-variant-numeric: normal\; font-variant-east-asian: normal\;" />\n<span style="color: rgb(75\, 79\, 86)\; font-family: Helvetica\, Arial\, sans-serif\; font-size: 14px\; font-variant-numeric: normal\; font-variant-east-asian: normal\;">Kid Friendly\, boaters welcome\, bring your blankets and lawn chairs and enjoy an evening full of live music\, food trucks and craft brews from West Sixth Brewing. Plenty of parking and a riverfront view\, whats not to love?</span><br style="color: rgb(75\, 79\, 86)\; display: inline\; font-family: Helvetica\, Arial\, sans-serif\; font-size: 14px\; font-variant-numeric: normal\; font-variant-east-asian: normal\;" />\n<br style="color: rgb(75\, 79\, 86)\; display: inline\; font-family: Helvetica\, Arial\, sans-serif\; font-size: 14px\; font-variant-numeric: normal\; font-variant-east-asian: normal\;" />\n<br style="color: rgb(75\, 79\, 86)\; display: inline\; font-family: Helvetica\, Arial\, sans-serif\; font-size: 14px\; font-variant-numeric: normal\; font-variant-east-asian: normal\;" />\n<span style="color: rgb(75\, 79\, 86)\; font-family: Helvetica\, Arial\, sans-serif\; font-size: 14px\; font-variant-numeric: normal\; font-variant-east-asian: normal\;">We are accepting artists and makers for this event. Booth fee is $30 and will go directly to the Kentucky Waterways Alliance</span><span class="text_exposed_show" style="color: rgb(75\, 79\, 86)\; display: inline\; font-family: Helvetica\, Arial\, sans-serif\; font-size: 14px\; font-variant-numeric: normal\; font-variant-east-asian: normal\;">\, a nonprofit that protects and restores KY waterways. Each month will have a sponsored non-profit\, if interested in becoming one of those please contact us!<br style="display: inline\;" />\n<br style="display: inline\;" />\nIf interested in participating as a volunteer or art vendor\, please contact Chris Howard: chris@canoeky.com<br style="display: inline\;" />\n<br style="display: inline\;" />\nFood trucks please contact Diane Strong: dianestron@ymail.com</span><br style="display: inline\;" />\n&nbsp\;
LOCATION:Ward Oates Amphitheater 520 West Main Street Frankfort
UID:e.1786.2982
SEQUENCE:3
DTSTAMP:20260425T233426Z
URL:https://members.frankfortky.info/events/details/kentucky-river-jam-music-arts-festival-2982
END:VEVENT

END:VCALENDAR
