BEGIN:VCALENDAR
VERSION:2.0
PRODID:-//ChamberMaster//Event Calendar 2.0//EN
METHOD:PUBLISH
X-PUBLISHED-TTL:P3D
REFRESH-INTERVAL:P3D
CALSCALE:GREGORIAN
BEGIN:VEVENT
DTSTART:20181031T220000Z
DTEND:20181101T000000Z
X-MICROSOFT-CDO-ALLDAYEVENT:FALSE
SUMMARY:Kentucky State Police Safe Trick-or-Treat
DESCRIPTION:Drive-through trick-or-treat format. Vehicles will enter the site from the eastbound lanes of U.S. 60 and proceed along the one-quarter-mile running track surrounding the building. Children remain inside the vehicle while KSP Staff pass out candy or small specialty items at 25 stations along the route. The cars will continue around the track and re-enter U.S. 60 eastbound. We set up approximately 25 candy stations around the building and we are looking for sponsors to help us purchase candy. All Candy Screened by KSP.
X-ALT-DESC;FMTTYPE=text/html:Drive-through trick-or-treat format. Vehicles will enter the site from the eastbound lanes of U.S. 60 and proceed along the one-quarter-mile running track surrounding the building. Children remain inside the vehicle while KSP Staff pass out candy or small specialty items at 25 stations along the route. The cars will continue around the track and re-enter U.S. 60 eastbound. We set up approximately 25 candy stations around the building and we are looking for sponsors to help us purchase candy. All Candy Screened by KSP.
LOCATION:KSP Headquarters 919 Versailles Road Frankfort\, KY 40601
UID:e.1786.3032
SEQUENCE:3
DTSTAMP:20260425T233429Z
URL:https://members.frankfortky.info/events/details/kentucky-state-police-safe-trick-or-treat-3032
END:VEVENT

END:VCALENDAR
