BEGIN:VCALENDAR
VERSION:2.0
PRODID:-//ChamberMaster//Event Calendar 2.0//EN
METHOD:PUBLISH
X-PUBLISHED-TTL:P3D
REFRESH-INTERVAL:P3D
CALSCALE:GREGORIAN
BEGIN:VEVENT
DTSTART;VALUE=DATE:20180908
DTEND;VALUE=DATE:20180909
TRANSP:TRANSPARENT
X-MICROSOFT-CDO-ALLDAYEVENT:TRUE
SUMMARY:Kentucky State University - Frankfort Day @ Football Game
DESCRIPTION:Kentucky State University will host Frankfort Day at their September 8\, 2018 as they play McKendree University.
X-ALT-DESC;FMTTYPE=text/html:Kentucky State University will host Frankfort Day at their September 8\, 2018 as they play McKendree University.
LOCATION:KSU Football Field Athletic Drive Frankfort\, KY
UID:e.1786.2745
SEQUENCE:3
DTSTAMP:20260426T010413Z
URL:https://members.frankfortky.info/events/details/kentucky-state-university-frankfort-day-football-game-2745
END:VEVENT

END:VCALENDAR
