BEGIN:VCALENDAR
VERSION:2.0
PRODID:-//ChamberMaster//Event Calendar 2.0//EN
METHOD:PUBLISH
X-PUBLISHED-TTL:P3D
REFRESH-INTERVAL:P3D
CALSCALE:GREGORIAN
BEGIN:VEVENT
DTSTART:20271216T170000Z
DTEND:20271216T180000Z
X-MICROSOFT-CDO-ALLDAYEVENT:FALSE
SUMMARY:Kiwanis Club of Frankfort
DESCRIPTION:
X-ALT-DESC;FMTTYPE=text/html:
LOCATION:
UID:e.1786.4957
SEQUENCE:3
DTSTAMP:20260419T204846Z
URL:https://members.frankfortky.info/events/details/kiwanis-club-of-frankfort-12-16-2027-4957
END:VEVENT

END:VCALENDAR
