BEGIN:VCALENDAR
VERSION:2.0
PRODID:-//ChamberMaster//Event Calendar 2.0//EN
METHOD:PUBLISH
X-PUBLISHED-TTL:P3D
REFRESH-INTERVAL:P3D
CALSCALE:GREGORIAN
BEGIN:VEVENT
DTSTART:20190202T120000Z
DTEND:20190202T170000Z
X-MICROSOFT-CDO-ALLDAYEVENT:FALSE
SUMMARY:Kiwanis Pancake Breakfast
DESCRIPTION:Kiwanis Club of Frankfort Pancake Breakfast\n\n\n\nProceeds to be used by the Frankfort Kiwanis Foundation to support children and youth programs in Frankfort and Franklin County and to partner with other organizations working for the betterment of our community.
X-ALT-DESC;FMTTYPE=text/html:<strong>Kiwanis Club of Frankfort Pancake Breakfast</strong><br />\n<br />\nProceeds to be used by the Frankfort Kiwanis Foundation to support children and youth programs in Frankfort and Franklin County and to partner with other organizations working for the betterment of our community.
LOCATION:Franklin County High School Georgetown Road Frankfort\, KY 40601
UID:e.1786.3070
SEQUENCE:3
DTSTAMP:20260425T163621Z
URL:https://members.frankfortky.info/events/details/kiwanis-pancake-breakfast-3070
END:VEVENT

END:VCALENDAR
