BEGIN:VCALENDAR
VERSION:2.0
PRODID:-//ChamberMaster//Event Calendar 2.0//EN
METHOD:PUBLISH
X-PUBLISHED-TTL:P3D
REFRESH-INTERVAL:P3D
CALSCALE:GREGORIAN
BEGIN:VEVENT
DTSTART:20181013T130000Z
DTEND:20181013T160000Z
X-MICROSOFT-CDO-ALLDAYEVENT:FALSE
SUMMARY:KY State University Ham & Jam
DESCRIPTION:Join Kentucky State University for their Annual Ham & Jam Breakfast before the Homecoming Parade in the VFW on 2nd Street.
X-ALT-DESC;FMTTYPE=text/html:Join Kentucky State University for their Annual Ham &amp\; Jam Breakfast before the Homecoming Parade in the VFW on 2nd Street.&nbsp\;&nbsp\;
LOCATION:Ham & Jam Breakfast VFW Parking Lot
UID:e.1786.3022
SEQUENCE:3
DTSTAMP:20260426T003637Z
URL:https://members.frankfortky.info/events/details/ky-state-university-ham-jam-3022
END:VEVENT

END:VCALENDAR
