BEGIN:VCALENDAR
VERSION:2.0
PRODID:-//ChamberMaster//Event Calendar 2.0//EN
METHOD:PUBLISH
X-PUBLISHED-TTL:P3D
REFRESH-INTERVAL:P3D
CALSCALE:GREGORIAN
BEGIN:VEVENT
DTSTART:20180809T160000Z
DTEND:20180809T173000Z
X-MICROSOFT-CDO-ALLDAYEVENT:FALSE
SUMMARY:Leadership Frankfort Graduation
DESCRIPTION:Frankfort Area Chamber \n\nMembership Network Luncheon \n\nHonoring our \n\n2018 Leadership Frankfort Graduates\n\nThursday\, August 9\, 2018\n\nStudent Center Ballroom @ Kentucky State University\n\n11:30 a.m 1:30 p.m. \n\nSince 1990 community partners\, area businesses and supporters have helped the Frankfort Area Chamber develop the next generation of leaders through our Leadership Frankfort program.  Leadership Frankfort and its more than 475 alumni share their commitment to community and working as change agents in the public\, private\, and nonprofit sectors throughout our region. \n\nThe Leadership Frankfort Advisory Board invite you to join as we catch up with past participants\, Leadership Frankfort supporters\, and celebrate the 2018 Graduating Class.  We can't wait to see what this year's class does next!\n\nOur luncheon guest speaker will be M. Christopher Brown\, Kentucky State University's 18th President.  Prior to accepting the KSU presidency\, Dr. Brown served as President and Institutional Executive Officer at Alcorn State University. He has served in other executive and academic roles at the American Association of State Colleges and Universities\, Alcorn State University\, Fisk University\, University of Nevada at Las Vegas\, the American Association of Colleges of Teacher Education\, and the United Negro College Fund.\n\n \n\nBe sure to bring a friend\, co-worker or client along with your business cards for the roundtable networking.  The cost to attend is $15.00 per person and includes lunch. Advance reservations are necessary\,  so please register today!
X-ALT-DESC;FMTTYPE=text/html:<span style="font-weight:bold\;"><span style="font-size:18pt\;">Frankfort </span></span><span style="font-weight:bold\;"><span style="font-size:18pt\;">Area Chamber&nbsp\;</span></span><br />\n<span style="font-weight:bold\;"><span style="font-size:18pt\;">Membership Network Luncheon</span></span>&nbsp\;<br />\n<span style="font-weight:bold\;"><span style="font-size:18pt\;">Honoring our </span></span><br />\n<span style="font-weight:bold\;"><span style="font-size:18pt\;">2018 Leadership Frankfort Graduates</span></span><br />\n<span style="font-weight:bold\;"><span style="font-size:18pt\;">Thursday\, August 9\, 2018</span></span><br />\n<span style="font-weight:bold\;"><span style="font-size:18pt\;">Student Center Ballroom @ Kentucky State University</span></span><br />\n<span style="font-weight:bold\;"><span style="font-size:18pt\;">11:30 a.m&mdash\;1:30 p.m.</span></span>&nbsp\;<br />\n<span style="font-size:12pt\;">Since 1990 community partners\, area businesses and supporters have helped the Frankfort Area Chamber develop the next generation of leaders through our Leadership Frankfort program.&nbsp\; Leadership Frankfort and its more than 475 alumni share their commitment to community and working as change agents in the public\, private\, and nonprofit sectors throughout our region. </span><br />\n<span style="font-size:12pt\;">The Leadership Frankfort Advisory Board invite you to join as we catch up with past participants\, Leadership Frankfort supporters\, and celebrate the 2018 Graduating Class.&nbsp\; We can&rsquo\;t wait to see what this year&rsquo\;s class does next!</span><br />\n<span style="font-size:12pt\;">Our </span><span style="font-weight:bold\;"><span style="font-size:12pt\;">luncheon guest speaker </span></span><span style="font-size:12pt\;">will be </span><span style="font-style:italic\;font-weight:bold\;"><span style="font-size:12pt\;">M. Christopher Brown\, </span></span><span style="font-style:italic\;font-weight:bold\;"><span style="font-size:12pt\;">Kentucky State University&rsquo\;s 18th President</span></span><span style="font-size:12pt\;">.&nbsp\; Prior to accepting the KSU presidency\, Dr. Brown served as President and Institutional Executive Officer at Alcorn State University. He has served in other executive and academic roles at the American Association of State Colleges and Universities\, Alcorn State University\, Fisk University\, University of Nevada at Las Vegas\, the American Association of Colleges of Teacher Education\, and the United Negro College Fund.</span><br />\n&nbsp\;<br />\n<span style="font-size:12pt\;">Be sure to bring </span><span style="font-size:12pt\;">a friend\, co-worker or client along with </span><span style="font-size:12pt\;">your business cards for the roundtable networking</span><span style="font-size:12pt\;">.</span>&nbsp\; <span style="font-size:12pt\;">The cost to attend is $</span><span style="font-size:12pt\;">1</span><span style="font-size:12pt\;">5.00 per person and includes </span><span style="font-size:12pt\;">lunch</span><span style="font-size:12pt\;">. Advance reservations are necessary\,&nbsp\; so please register today!</span><br />\n&nbsp\;
LOCATION:Student Center Ballroom @ Kentucky State University 400 East Main Street
UID:e.1786.2977
SEQUENCE:3
DTSTAMP:20260426T023040Z
URL:https://members.frankfortky.info/events/details/leadership-frankfort-graduation-2977
END:VEVENT

END:VCALENDAR
