BEGIN:VCALENDAR
VERSION:2.0
PRODID:-//ChamberMaster//Event Calendar 2.0//EN
METHOD:PUBLISH
X-PUBLISHED-TTL:P3D
REFRESH-INTERVAL:P3D
CALSCALE:GREGORIAN
BEGIN:VEVENT
DTSTART:20180828T160000Z
DTEND:20180828T173000Z
X-MICROSOFT-CDO-ALLDAYEVENT:FALSE
SUMMARY:Legislative Luncheon with Congressman Andy Barr
DESCRIPTION:Join U.S. Congressman Andy Barr at the next Frankfort Area Chamber Legislative Luncheon on Tuesday\, August 28\, 2018 from noon to 1:30 p.m.\, at G Gerrad's Jazz Restaurant (76 C Michael Davenport Blvd.)\n\n\n\nAs guest speaker\, Congressman Barr will provide his perspective on the top issues being discussed by the U.S. Congress and the Trump Administration\, including the impact of the Tax Cuts and Jobs Act on Kentucky's residents and businesses.\n\n\n\nServing as the Sixth Congressional District representative since January 3\, 2013\, Congressman Barr has introduced legislation that would strengthen the Commonwealth's bourbon\, equine\, energy\, agriculture and manufacturing industries.\n\n\n\nReservations now being taken. The cost to attend is $15 per person and reservations are necessary. RSVP to the Chamber office at office@frankfortky.info or 502-223-8261. All cancellations must be made 24 hours in advance.
X-ALT-DESC;FMTTYPE=text/html:Join U.S. Congressman Andy Barr at the next Frankfort Area Chamber Legislative Luncheon on Tuesday\, August 28\, 2018 from noon to 1:30 p.m.\, at G Gerrad&rsquo\;s Jazz Restaurant (76 C Michael Davenport Blvd.)<br />\n<br />\nAs guest speaker\, Congressman Barr will provide his perspective on the top issues being discussed by the U.S. Congress and the Trump Administration\, including the impact of the Tax Cuts and Jobs Act on Kentucky&rsquo\;s residents and businesses.<br />\n<br />\nServing as the Sixth Congressional District representative since January 3\, 2013\, Congressman Barr has introduced legislation that would strengthen the Commonwealth&rsquo\;s bourbon\, equine\, energy\, agriculture and manufacturing industries.<br />\n<br />\nReservations now being taken. The cost to attend is $15 per person and reservations are necessary. RSVP to the Chamber office at office@frankfortky.info or 502-223-8261. All cancellations must be made 24 hours in advance.
LOCATION:G. Gerrad's Jazz Restaurant 73 C Michael Davenport Blvd. Frankfort\, KY 40601
UID:e.1786.3021
SEQUENCE:3
DTSTAMP:20260426T031558Z
URL:https://members.frankfortky.info/events/details/legislative-luncheon-with-congressman-andy-barr-3021
END:VEVENT

END:VCALENDAR
